BEGIN:VCALENDAR
VERSION:2.0
PRODID:-//Национална опера и балет - ECPv4.0.7//NONSGML v1.0//EN
CALSCALE:GREGORIAN
METHOD:PUBLISH
X-WR-CALNAME:Национална опера и балет
X-ORIGINAL-URL:https://operabalet.mk
X-WR-CALDESC:Events for Национална опера и балет
BEGIN:VEVENT
DTSTART;TZID="UTC+0":20210429T200000
DTEND;TZID="UTC+0":20210429T220000
DTSTAMP:20260423T184050
CREATED:20210428T103647
LAST-MODIFIED:20210428T105847
UID:3041-1619726400-1619733600@operabalet.mk
SUMMARY:„Ромео и Јулија“ од Сергеј Прокофјев-балетска претстава
DESCRIPTION:\nПо повод Меѓународниот ден на танцот\, 29 април\, во чест на Тони Баталаков (1945-2021) на официјалниот YouTube канал на Националната опера и балет во 20.00 ч. ќе имате можност да ја погледнете балетската претстава „Ромео и Јулија“ од Сергеј Прокофјев. \nСнимката (1987) е од архивата на Националната опера и балет.\nРомео и Јулија\n  Сергеј Прокофјев\n  22.4.1987\nКореограф и режисер: Хазарос Сурмејан\nДиригент: Јануш Пшибилски\nАсистенти на кореографот: Дебора Вилсон и Олга Милосавлева\nСценограф: Живоин Трајановиќ\nКостимограф: Елена Дончева\nКорепетитори: Јоана Поп Христова\, Дара Алчева и Галина Гацева\nРепетитор: Олга Милосавлева\nНастапуваат:\nЈулија: Зоица Пуровска\nРомео: Зоран Велевски\nМеркуцио: Екрем Хусеин\nТибалт: Владо Чанев\nПарис: Тони Баталаков\nБенволио: Дончо Велковски\nГ-ѓа Капулети: Вера Бранѓолица\nГ – дин Капулети: Константин Лашков\nДадилка: Виолета Радовановиќ\nГ-дин Монтеки: Јован Јовановиќ\nГ-ѓа Монтеки: Вилма Самарџија\nКнезот од Верона: Славчо Димовски\nЛоренцо : Михајло Јовановски\nРозалинда: Eлена Спасовска\nЦиганки: Снежана Шијаковиќ\, Марина Станковиќ и Надица Борсова\nИграчи на улица: Лора Стојанова\, Мице Поповски и Миле Илиевски\nАнсамбл: Весна Ристиќ\, Ирена Кантарџиева\, Оливера Костова\, Богослава Хучинска\, Надица Ристевска\, Снежана Василевска\, Снежана Павичевиќ\, Рисима Матевска\, Душанка Николиќ\, Маритка Гроздановска\, Василка Маневска\, Лиле Поповска\, Зорица Петковска\, Милица Талевска\, Ана Миова\,Вилма Самарџија\, Тони Спасовски\, Тони Ристевски\, Мице Поповски\, Миле Илиевски\, Златко Петковски\, Бранко Ивановски\, Мирослав Давидовски\, Драган Тетиев\, Драган Станојковиќ\, Славчо Столески\, Зоран Талев\, Мирјам Чуни\nЛинк до настанот!
URL:https://operabalet.mk/event/%d1%80%d0%be%d0%bc%d0%b5%d0%be-%d0%b8-%d1%98%d1%83%d0%bb%d0%b8%d1%98%d0%b0-%d0%be%d0%b4-%d1%81%d0%b5%d1%80%d0%b3%d0%b5%d1%98-%d0%bf%d1%80%d0%be%d0%ba%d0%be%d1%84%d1%98%d0%b5%d0%b2/
LOCATION:Array
CATEGORIES:балет
ATTACH;FMTTYPE=image/jpeg:https://operabalet.mk/wp-content/uploads/2021/04/toni-batalakov.jpg
END:VEVENT
END:VCALENDAR