BEGIN:VCALENDAR
VERSION:2.0
PRODID:-//Национална опера и балет - ECPv4.0.7//NONSGML v1.0//EN
CALSCALE:GREGORIAN
METHOD:PUBLISH
X-WR-CALNAME:Национална опера и балет
X-ORIGINAL-URL:https://operabalet.mk
X-WR-CALDESC:Events for Национална опера и балет
BEGIN:VEVENT
DTSTART;TZID="Europe/Skopje":20240528T200000
DTEND;TZID="Europe/Skopje":20240528T213000
DTSTAMP:20260423T123450
CREATED:20240419T121427
LAST-MODIFIED:20240423T133005
UID:4052-1716926400-1716931800@operabalet.mk
SUMMARY:„СВАДБА“ – Ана Соколовиќ (Камерна опера-28.5.2024)
DESCRIPTION:52 МАЈСКИ ОПЕРСКИ ВЕЧЕРИ\nСвадба\, камерна опера за шест женски гласови – акапела опера\nСловенечки камерен музички театар - Љубљана\n28.5.2024\nМузика и либрето: Ана Соколовиќ\nДиригент: Јелена Шасник\nРежија: Андреј Јус\nСценографија: Јаро Јеше\nКостимографија: Маја Сотошек\nПродуценти: Катја Конвалинка (СКГГ)\, Сташа Михелчиќ (ЦД)\nНастапуваат:\nМилица: Штефица Грасели\, сопран\nДаница: Тереза Плут\, сопран\nЛена: Катја Конвалинка\, сопран\nЗора: Ирена Јебуах Тиран\, мецосопран\nНада: Барбара Јернејчиќ\, прв мекосопран\nЉубица: Ања Земљариќ\, мецосопран\nСодржина:\nДејствието се одвива вечерта пред свадбата на девојката Милица\, која ја прославува својата свадба со другарките.\nI. Девојките и пеат на Милица\nII. Боење на косата\nIII. Љубовен фустан\nIV. Аргумент\nV. Капање\nVI. Зора – облекување\nVII. Збогување\n
URL:https://operabalet.mk/event/%d1%81%d0%b2%d0%b0%d0%b4%d0%b1%d0%b0-%d0%b0%d0%bd%d0%b0-%d1%81%d0%be%d0%ba%d0%be%d0%bb%d0%be%d0%b2%d0%b8%d1%9c-%d0%ba%d0%b0%d0%bc%d0%b5%d1%80%d0%bd%d0%b0-%d0%be%d0%bf/
LOCATION:Array
CATEGORIES:опера
ATTACH;FMTTYPE=image/png:https://operabalet.mk/wp-content/uploads/2024/04/svadba_webslde_mov52.png
END:VEVENT
END:VCALENDAR