BEGIN:VCALENDAR
VERSION:2.0
PRODID:-//Национална опера и балет - ECPv4.0.7//NONSGML v1.0//EN
CALSCALE:GREGORIAN
METHOD:PUBLISH
X-WR-CALNAME:Национална опера и балет
X-ORIGINAL-URL:https://operabalet.mk
X-WR-CALDESC:Events for Национална опера и балет
BEGIN:VEVENT
DTSTART;TZID="UTC+0":20160621T210000
DTEND;TZID="UTC+0":20160621T223000
DTSTAMP:20260424T212031
CREATED:20160530T110135
LAST-MODIFIED:20160530T213057
UID:533-1466542800-1466548200@operabalet.mk
SUMMARY:Свечено отворање на „Скопско лето“ Гала концерт со солистите на МОБ - Плато на МОБ
DESCRIPTION:Свечено отворање на „Скопско лето“\nГала концерт на солистите на МОБ\n\nДиригент: Бисера Чадловска\nНастапуваат: Славица Галиќ-Петровска\, Весна Ѓиновска-Илкова\, Наде Талевска-Спасовска\, Ивана Здравкова\, Биљана Јосифов\, Николина Јаневска\, Ѓорги Цуцковски\, Зоран Сотиров\, Ристе Велков\, Дарко Нешовски\n\nПлато пред МОБ\, 21.00 часот
URL:https://operabalet.mk/event/%d1%81%d0%b2%d0%b5%d1%87%d0%b5%d0%bd%d0%be-%d0%be%d1%82%d0%b2%d0%be%d1%80%d0%b0%d1%9a%d0%b5-%d0%bd%d0%b0-%d1%81%d0%ba%d0%be%d0%bf%d1%81%d0%ba%d0%be-%d0%bb%d0%b5%d1%82%d0%be-%d0%b3/
LOCATION:бул. Гоце Делчев бр.4\, Скопје\, Скопје\, 1000\, Macedonia
CATEGORIES:концерт
ATTACH;FMTTYPE=image/gif:https://operabalet.mk/wp-content/uploads/2016/02/01.gif
END:VEVENT
END:VCALENDAR