BEGIN:VCALENDAR
VERSION:2.0
PRODID:-//Национална опера и балет - ECPv4.0.7//NONSGML v1.0//EN
CALSCALE:GREGORIAN
METHOD:PUBLISH
X-WR-CALNAME:Национална опера и балет
X-ORIGINAL-URL:https://operabalet.mk
X-WR-CALDESC:Events for Национална опера и балет
BEGIN:VEVENT
DTSTART;TZID="UTC+0":20181109T200000
DTEND;TZID="UTC+0":20181109T224000
DTSTAMP:20260424T015801
CREATED:20181018T072649
LAST-MODIFIED:20181109T141458
UID:1909-1541793600-1541803200@operabalet.mk
SUMMARY:„СЕВИЛСКИОТ БЕРБЕР“ - Џоакино Росини (09.11.2018)
DESCRIPTION:Дејствието од операта се одвива во Севиља. Розина е млада девојка која е заљубена во грофот Алмавива. Младиот и убав гроф секојдневно пее под прозорецот на Розина со цел да и се приближи. Но\, Розина ја чува стариот доктор Бартоло\, кој сака да се ожени за неа и не и дозволува да излезе од куќата. Фигаро\, личниот бербер на Бартоло\, им помага на Розина и Алмавива да се запознаат\, претставувајки го Алмавива како учител по пеење. И додека Фигаро го бричи Бартоло\, Розина и Алмавива се договараат околу својата иднина.\nЗа да ја остварат заедничката љубов\, на Розина и Алмавива им помага Фигаро\, така што им носи матичар и сведоци. Во тој момент се одвива венчавката\, а стариот Бартола мора да ја прифати победата на младоста и љубовта.\n\nДиригент: Иван Еминовиќ\nРежисер:Урсула Хорнер (Австрија)\nАсс.режисер:Љупка Јакимовска\nСценограф: Марија Ветеровска\nКостимограф:Марија Пупучевска\nКонцерт мајстор: Јане Бакевски\nАсс.Диригент: Катерина Стојковска\nАсс.хор мајстор:Ѓурѓица Дашиќ\, Јасмина Ѓорѓеска\nКорепетитори:ЕленаСиљаноска\,Јанинка Невчева\, Андреја Наунов\n\nНастапуваат:\n\nФигаро: Марјан Јованоски\nРозина:Билјана Јосифов\nГроф Алмавива: Благој Нацоски\nДон Базилио: Владимир Саздовски\nДон Бартоло:Невен Сиљановски\nБерта: Злата Тошевска\nФиорело:Кристијан Антовски\nАмброзио: Саша Смилевски\nКамениот човек: Борко Биџовски\n\nХорот и оркестарот на МОБ\n\n \n\n \n\nСинопсис:\n\nI ЧИН\n\nУлица во Севиља. Грофот Алмавива ѝ пее серенада на Розина\, штитеничка на лекарот Бартоло. Доаѓа берберот Фигаро\, весело и самоуверено момче. Тој за пари и пофални зборови ќе му помогне на грофот да дојде до својата сакана. Бартоло\, строго и љубоморно ја чува Розина\, затоа што и тој самиот сака да се венча со неа. Таа пак го сака Линдоро\, кој е всушност грофот Алмавива. Бартоло и Базилио решаваат да го обвинат грофот пред Розина. Фигаро се обидува да ја придобие Розина за грофот Алмавива\, но со веселост забележува дека тука не е потребен никаков труд\, зашто Розина во ликот на Линдоро и без тоа веќе го сака грофот. Розина му дава писменце на Фигаро за грофот и берберот весело си заминува. Одеднаш во куќата се втурнува еден војник\, привидно пијан. Тоа е грофот кој ѝ се открива на Розина. Алмавива\, поради вревата што се дигна во куќата со неговото доаѓање\, мора да биде уапсен\, но тој му шепнува нешто на заповедникот и за апсење нема повеќе ни збор. Бартоло се вчудовидува.\n\n \n\nII ЧИН\n\nАлмавива\, преоблечен како учител по музика на Розина ѝ дава час по пеење. Фигаро го бричи Бартоло\, а Алмавива и Розина се договараат да избегаат кришум. Фигаро се појавува и е премногу љубопитен што предизвикува сомневање кај Бартоло. Доаѓа Базилио и треба да го повика нотариусот\, но грофот го поткупува и на крајот се се завршува со венчавање на грофот и Розина\, кои добиваат благослов и од Бартоло.
URL:https://operabalet.mk/event/%d1%81%d0%b5%d0%b2%d0%b8%d0%bb%d1%81%d0%ba%d0%b8%d0%be%d1%82-%d0%b1%d0%b5%d1%80%d0%b1%d0%b5%d1%80-%d1%9f%d0%be%d0%b0%d0%ba%d0%b8%d0%bd%d0%be-%d1%80%d0%be%d1%81%d0%b8%d0%bd%d0%b8-0/
LOCATION:бул. Гоце Делчев бр.4\, Скопје\, Скопје\, 1000\, Macedonia
CATEGORIES:опера
ATTACH;FMTTYPE=image/jpeg:https://operabalet.mk/wp-content/uploads/2016/09/sevilski_slika.jpg
END:VEVENT
END:VCALENDAR