BEGIN:VCALENDAR
VERSION:2.0
PRODID:-//Национална опера и балет - ECPv4.0.7//NONSGML v1.0//EN
CALSCALE:GREGORIAN
METHOD:PUBLISH
X-WR-CALNAME:Национална опера и балет
X-ORIGINAL-URL:https://operabalet.mk
X-WR-CALDESC:Events for Национална опера и балет
BEGIN:VEVENT
DTSTART;TZID="Europe/Skopje":20240302T080000
DTEND;TZID="Europe/Skopje":20240302T223000
DTSTAMP:20260423T100222
CREATED:20240212T133923
LAST-MODIFIED:20240212T154611
UID:4003-1709366400-1709418600@operabalet.mk
SUMMARY:„СЕВИЛСКИОТ БЕРБЕР“ - Џоакино Росини (2.3.2024)
DESCRIPTION:\nНАЦИОНАЛНА ОПЕРА И БАЛЕТ- ОПЕРА\nЏоакино Росини\n„СЕВИЛСКИОТ БЕРБЕР“\n02.03.2024 год. – Салон на Национална опера и балет\, 20 часот\nДиригент: Иван Еминовиќ\nРежисер: Урсула Хорнер (Австрија)\nАсс.Диригент – Катерина Стојковска\nАсс.режисер: Љупка Јакимовска\, Трајко Јордановски\nСценограф: Марија Ветеровска\nКостимограф: Марија Пупучевска\nКонцерт мајстор:\nХор мајстор: Ѓурѓица Дашиќ\nКорепетитори: Елена Сиљаноска\, Јанинка Невчева\, Андреја Наунов\, Јордан Петрушевски\nИнспициенти:Љупчо Полизов\, ДРаган Костадиновиќ\, Марко Павлевски\nСуфлер: Невена Георгиева\nНАСТАПУВААТ:\nФигаро: Васко Здравков\nРозина: Билјана Јосифов\nГроф Алмавива: Роберто Јачини Вергилиј - Италија\nДон Базилио: Владимир Саздовски\nДон Бартоло: Невен Силјановски\nБерта: Соња Пендовска Мадевска\nФиорело: Драган Ампов\nАмброзио: Марко Димовски\nКамениот човек: Борко Биџовски\nЧембало: Елена Сиљаноска\nХорот и оркестарот на Национална опера и балет\n*времетраење на претставата 150 минути\n \n„Севилскиот бербер“ - Џокаино Росини\nДејствието од операта се одвива во Севилја. Розина е млада девојка која е заљубена во грофот Алмавива. Младиот и убав гроф секојдневно пее под прозорецот на Розина со цел да и се приближи. Но\, Розина ја чува стариот доктор Бартоло\, кој сака да се ожени за неа и не и дозволува да излезе од куќата. Фигаро\, личниот бербер на Бартоло\, им помага на Розина и Алмавива да се запознаат\, претставувајки го Алмавива како учител по пеење. И додека Фигаро го бричи Бартоло\, Розина и Алмавива се договараат околу својата иднина.\nЗа да ја остварат заедничката љубов\, на Розина и Алмавива им помага Фигаро\, така што им носи матичар и сведоци. Во тој момент се одвива венчавката\, а стариот Бартола мора да ја прифати победата на младоста и љубовта.\nСинопсис:\nI ЧИН\nУлица во Севиља. Грофот Алмавива ѝ пее серенада на Розина\, штитеничка на лекарот Бартоло. Доаѓа берберот Фигаро\, весело и самоуверено момче. Тој за пари и пофални зборови ќе му помогне на грофот да дојде до својата сакана. Бартоло\, строго и љубоморно ја чува Розина\, затоа што и тој самиот сака да се венча со неа. Таа пак го сака Линдоро\, кој е всушност грофот Алмавива. Бартоло и Базилио решаваат да го обвинат грофот пред Розина. Фигаро се обидува да ја придобие Розина за грофот Алмавива\, но со веселост забележува дека тука не е потребен никаков труд\, зашто Розина во ликот на Линдоро и без тоа веќе го сака грофот. Розина му дава писменце на Фигаро за грофот и берберот весело си заминува. Одеднаш во куќата се втурнува еден војник\, привидно пијан. Тоа е грофот кој ѝ се открива на Розина. Алмавива\, поради вревата што се дигна во куќата со неговото доаѓање\, мора да биде уапсен\, но тој му шепнува нешто на заповедникот и за апсење нема повеќе ни збор. Бартоло се вчудовидува.\n\n \nII ЧИН\nАлмавива\, преоблечен како учител по музика на Розина ѝ дава час по пеење. Фигаро го бричи Бартоло\, а Алмавива и Розина се договараат да избегаат кришум. Фигаро се појавува и е премногу љубопитен што предизвикува сомневање кај Бартоло. Доаѓа Базилио и треба да го повика нотариусот\, но грофот го поткупува и на крајот се се завршува со венчавање на грофот и Розина\, кои добиваат благослов и од Бартоло.
URL:https://operabalet.mk/event/%d1%81%d0%b5%d0%b2%d0%b8%d0%bb%d1%81%d0%ba%d0%b8%d0%be%d1%82-%d0%b1%d0%b5%d1%80%d0%b1%d0%b5%d1%80-%d1%9f%d0%be%d0%b0%d0%ba%d0%b8%d0%bd%d0%be-%d1%80%d0%be%d1%81%d0%b8%d0%bd%d0%b8-2-2/
LOCATION:Array
CATEGORIES:опера
ATTACH;FMTTYPE=image/jpeg:https://operabalet.mk/wp-content/uploads/2016/09/sevilski_slika.jpg
END:VEVENT
END:VCALENDAR