BEGIN:VCALENDAR
VERSION:2.0
PRODID:-//Национална опера и балет - ECPv4.0.7//NONSGML v1.0//EN
CALSCALE:GREGORIAN
METHOD:PUBLISH
X-WR-CALNAME:Национална опера и балет
X-ORIGINAL-URL:https://operabalet.mk
X-WR-CALDESC:Events for Национална опера и балет
BEGIN:VEVENT
DTSTART;TZID="UTC+0":20210502T174500
DTEND;TZID="UTC+0":20210502T183000
DTSTAMP:20260423T163311
CREATED:20210428T065653
LAST-MODIFIED:20210428T065653
UID:3039-1619977500-1619980200@operabalet.mk
SUMMARY:СТАБАТ МАТЕР - Џовани Батиста Перголези - ПРЕМИЕРА (2.5.2021)
DESCRIPTION:\n\n„СТАБАТ МАТЕР“\n Џовани Батиста Перголези\n(вокално-инструментално дело)\n02.05 2021\, Официјален YouTube канал на Национална опера и балет и ТВ 24\, 17:45 часот\nДиригент: Бисера Чадловска\nРежисер: Дејан Прошев\nКонцерт мајстор: Климент Тодороски\nХор мајстор: Јасмина Ѓорѓеска\nСветло мајстор: Милчо Александров\nKорепетитор: Јанинка Невчева\nСценографија: Дел од сценографија од оперската претстава „Тоска“- продукција на Националната опера и балет\nИнспициенти: Љупчо Полизов\, Драган Костадиновиќ\, Марко Павлевски\nНастапуваат:\nКатерина Стојановска- сопран\nИрена Кавкалевска – мецосопран\nОркестарот и хорот на Национална опера и балет\n Балетски солист : Ивана Коцевска\n „Стабат Матер“ е возвишено вокално-инструментално дело\, христијанска химна на Дева Марија од XIII век\, која го прикажува нејзиното страдање како мајка на Исус Христос за време на распетието. 
URL:https://operabalet.mk/event/%d1%81%d1%82%d0%b0%d0%b1%d0%b0%d1%82-%d0%bc%d0%b0%d1%82%d0%b5%d1%80-%d1%9f%d0%be%d0%b2%d0%b0%d0%bd%d0%b8-%d0%b1%d0%b0%d1%82%d0%b8%d1%81%d1%82%d0%b0-%d0%bf%d0%b5%d1%80%d0%b3%d0%be%d0%bb%d0%b5%d0%b7/
LOCATION:Array
CATEGORIES:концерт
ATTACH;FMTTYPE=image/jpeg:https://operabalet.mk/wp-content/uploads/2021/04/stabat-mater.jpg
END:VEVENT
END:VCALENDAR