BEGIN:VCALENDAR
VERSION:2.0
PRODID:-//Национална опера и балет - ECPv4.0.7//NONSGML v1.0//EN
CALSCALE:GREGORIAN
METHOD:PUBLISH
X-WR-CALNAME:Национална опера и балет
X-ORIGINAL-URL:https://operabalet.mk
X-WR-CALDESC:Events for Национална опера и балет
BEGIN:VEVENT
DTSTART;TZID="Europe/Skopje":20250404T200000
DTEND;TZID="Europe/Skopje":20250404T230000
DTSTAMP:20260423T134551
CREATED:20250319T134352
LAST-MODIFIED:20250404T083632
UID:4471-1743796800-1743807600@operabalet.mk
SUMMARY:„Тоска“- Џакомо Пучини (04.04.2025)
DESCRIPTION:\nТоска\nЏакомо Пучини\n04.04.2025 20:00 часот\, Салон на НОБ\nДиригент: Бисера Чадловска\nРежисер: Огњан Драганов (Бугарија)\nСценограф: Зоран Николовски\nКостимограф: Марија Пупучевска\nАсс.Диригент: Катерина Стојковска\nАсс. Режисер: Трајко Јордановски\nКонцерт мајстор: Верица Ламбевска\nАсс. хор мајстор: Ѓурѓица Дашиќ\, Јасмина Ѓорѓеска\nКорепетитори: Елена Сиљаноска\, Јанинка Невчева\, Андреја Наунов\, Горјан Стојановски\nИспициенти: Драган Костадиновиќ\, Марко Павлевски\nСуфлери: Невена Георгиева\nУлоги:\nФлорија Тоска: Благица Поп Томова\nКаварадоси: Зоран Сотиров\nСкарпија: Марјан Јованоски\nАнџелоти: Борко Биџовски\nКлисар: Драган Ампов\nСполета: Никола Стојчески\nШароне: Тихомир Јакимовски\nКлучар: Никола Чедомировски\nОвчарче: Десанка Глигоријевиќ\nНастапуваат хорот и оркестарот на Национална опера и балет\nТОСКА\nТЕМА: Страст\, предавство и жртва. Љубовната симфонија одекнува во сенките на Рим.\nКРАТКА СОДРЖИНА\nСликарот Каварадоси му помага на избеганиот од затвор републиканец Анџелоти да се засолни\, но шефот на полицијата Скарпија и неговите агенти ja насетуваат трагата. Со вешти ветувања и закани\, Скарпија изнудува признание од Тоска\, љубовницата на сликарот\, и тој е фатен и осуден на смрт. Тоска бара помилување\, меѓутоа Скарпија одбива. Би го помилувал само доколку Тоска се согласи да биде негова. За да го спаси Каварадоси\, Тоска се согласува\, но за возврат бара Скарпија да му даде документи со кои безбедно ќе го напушти Рим.\nДоговорено е стрелањето да биде фиктивно. Скарпија ги подготвува документите и кога ja посакува Тоска\, таа го убива со нож. Веднаш му јавува на Каварадоси дека стрелањето ќе биде фиктивно.\nСкарпија\, меѓутоа\, наредил Каварадоси вистински да се стрела. Наредбата е извршена. Тоска\, целата избезумена\, сфаќа дека е измамена и пред да биде фатена од агентите на Скарпија\, се фрла од затворската тврдина во бездна.
URL:https://operabalet.mk/event/%d1%82%d0%be%d1%81%d0%ba%d0%b0-%d1%9f%d0%b0%d0%ba%d0%be%d0%bc%d0%be-%d0%bf%d1%83%d1%87%d0%b8%d0%bd%d0%b8-04-04-2025/
LOCATION:Array
CATEGORIES:опера
ATTACH;FMTTYPE=image/jpeg:https://operabalet.mk/wp-content/uploads/2017/01/TOSCA-web.jpg
END:VEVENT
END:VCALENDAR