BEGIN:VCALENDAR
VERSION:2.0
PRODID:-//Национална опера и балет - ECPv4.0.7//NONSGML v1.0//EN
CALSCALE:GREGORIAN
METHOD:PUBLISH
X-WR-CALNAME:Национална опера и балет
X-ORIGINAL-URL:https://operabalet.mk
X-WR-CALDESC:Events for Национална опера и балет
BEGIN:VEVENT
DTSTART;TZID="Europe/Skopje":20211217T200000
DTEND;TZID="Europe/Skopje":20211217T223000
DTSTAMP:20260423T172449
CREATED:20210902T094030
LAST-MODIFIED:20211209T102925
UID:3199-1639771200-1639780200@operabalet.mk
SUMMARY:„ТРАВИЈАТА“-ЏУЗЕПЕ ВЕРДИ  (17.12.2021)
DESCRIPTION:\nЏУЗЕПЕ ВЕРДИ\n„ТРАВИЈАТА“\n17.12.2021\, 20ч.\nДиригент: Бисера Чадловска\nРежисер: Верена Штојбер (Германија)\nСценограф и костимограф: Софија Шнајдер (Германија)\nКореограф: Саша Ефтимова\nАсс.режисер: Трајко Јордановски\, Љупка Јакимовска\nАсс. Диригент: Катерина Стојковска\nКонцерт-мајстор: Климент Тодороски\nХор-мајстор: Јасмина Ѓорѓеска\,Ѓурѓица Дашиќ\nКорепетитор: Елена Сиљаноска\, Јанинка Невчева\, Андреја Наунов\nНастапуваат:\nВиолета Валери: Наде Талевска\nАлфред Жермон: Благој Нацоски\nЖорж Жермон: Марјан Јованоски\nФлора Бервоа: Марика Поповиќ\nАнина: Александра Лазарoвска Василевски\nБарон Дуфол: Васко Здравков\nМаркиз Д’ Обињи: Драган Ампов\nГастон: Дејан Стоев\nД-р Гренвил: Борко Биџовски\nЏузепе: Игор Гиновски\nКомесарио: Диме Петров\nНастапуваат хорот\, балетскиот ансамбл и оркестарот на Национална опера и балет\nИспициенти: Љупчо Полизов\, Драган Костадиновиќ\, Марко Павлевски\nСуфлери: Павлина Здравкова\, Светлана Георгиева
URL:https://operabalet.mk/event/%d1%82%d1%80%d0%b0%d0%b2%d0%b8%d1%98%d0%b0%d1%82%d0%b0-%d1%9f%d1%83%d0%b7%d0%b5%d0%bf%d0%b5-%d0%b2%d0%b5%d1%80%d0%b4%d0%b8-17-12-2021/
LOCATION:Array
CATEGORIES:опера
ATTACH;FMTTYPE=image/jpeg:https://operabalet.mk/wp-content/uploads/2017/04/traviata-slide.jpg
END:VEVENT
END:VCALENDAR