BEGIN:VCALENDAR
VERSION:2.0
PRODID:-//Национална опера и балет - ECPv4.0.7//NONSGML v1.0//EN
CALSCALE:GREGORIAN
METHOD:PUBLISH
X-WR-CALNAME:Национална опера и балет
X-ORIGINAL-URL:https://operabalet.mk
X-WR-CALDESC:Events for Национална опера и балет
BEGIN:VEVENT
DTSTART;TZID="Europe/Skopje":20231027T200000
DTEND;TZID="Europe/Skopje":20231027T230000
DTSTAMP:20260423T100132
CREATED:20230915T100729
LAST-MODIFIED:20231012T112407
UID:3857-1698436800-1698447600@operabalet.mk
SUMMARY:„ТРАВИЈАТА“ - ЏУЗЕПЕ ВЕРДИ (27.10.2023)
DESCRIPTION:\nЏУЗЕПЕ ВЕРДИ\n„ТРАВИЈАТА“\n27.10.2023 почеток 20ч.\nДиригент: Бисера Чадловска\nРежисер: Верена Штојбер (Германија) \nСценограф и костимограф: Софија Шнајдер (Германија)\nКореограф: Саша Ефтимова\nАсс.режисер: Трајко Јордановски\, Љупка Јакимовска\nАсс. Диригент: Катерина Стојковска\nКонцерт-мајстор: Верица Ламбевска\nХор-мајстор: Ѓурѓица Дашиќ\nКорепетитор: Елена Сиљаноска\, Јанинка Невчева\, Андреја Наунов\, Јордан Петрушевски\nНастапуваат:\nВиолета Валери: Ана Дурловски\nАлфред Жермон: Благој Нацоски\nЖорж Жермон: Марјан Јованоски\nФлора Бервоа: Марика Поповиќ\nАнина: Александра Лазарoвска Василевски\nБарон Дуфол: Васко Здравков\nМаркиз Д’ Обињи: Драган Ампов\nГастон: Дејан Стоев\nД-р Гренвил: Борко Биџовски\nЏузепе: Игор Гиновски\nКомесарио:Тихомир Јакимовски\nНастапуваат: хорот\, балетскиот ансамбл и оркестарот на НОБ\nИспициенти: Љупчо Полизов\, Драган Костадиновиќ\, Марко Павлевски\nСуфлер:  Невена Георгиева\n \n\nТРАВИЈАТА\n\nОпера во три чина од Џузепе Верди. Либрето напишано од Франческо Марија Пјаве. Приказната се базира на новелата „Дамата со камелии“ од Александар Дима. Првата изведба е во Венеција\, 6 март\, 1853 година во Театро ла Фениче.\n\nСинопсис\n\nI ЧИН\n\nКуртизаната Виолета Валери во својот салон ги пречекува гостите на забавата што ја приредува. Меѓу другите гости тука се Флора Бервоа\, маркизот Обињи\, баронот Дуфол и Гастон Леториер\, како и новиот обожавател на Виолета\, Алфред Жермон.\n\nОвој млад човек кој од поодамна и се восхитува на Виолета и се придружува во „винската” песна. Од соседната просторија се слуша музика. Додека гостите преоѓаат таму за да танцуваат на Виолета и се слошува\, па таа се повлекува во својата соба за да си дојде при себе. Влегува Алфред и гледајќи дека се сами и ја открива својата љубов на Виолета. Таа отпрвин се спротивставува\, велејќи дека љубовта за неа не значи ништо. Сепак искреноста на момчето не ја остава рамнодушна\, па таа му ветува средба следниот ден. Гостите си одат од забавата и Виолета се прашува себеси - дали тоа е човекот што би го сакала? Таа\, сепак ја избира слободата\, иако гласот на Алфред што доаѓа однадвор како да сака да ја убеди во спротивното.\n\nII ЧИН\n\nНеколку месеци подоцна. Алфред и Виолета живеат во селска куќа во близината на Париз. Тој ја воспева нивната заемна предаденост. Слугинката Анина му открива дека Виолета го жртвувала својот накит за да може да ја одржува куќата. На тоа Алфред оди во градот за да ги среди работите на свој начин. Виолета се враќа\, го бара Алфред\, но наместо него наоѓа покана за истата вечер за забава кај Флора Бервоа. Виолета нема намера да му се врати на стариот начин на живот\, но неволјите започнуваат со појавата на таткото на Алфред\, Жорж Жермон. Тој е импресиониран од господското однесување на Виолета\, но сепак бара од неа да се откаже од свршувачката со неговиот син (скандалот со нивната врска ја довел во прашање свршувачката на сестрата на Алфред.) Виолета отпрвин одбива\, но попушта\, со тешко срце\, пред убедувањата на Жермон. Сама и напуштена\, Виолета му пишува проштално писмо на Алфред и ја прифаќа поканата на Флора. Во собата ненадејно влегува Алфред\, а Виолета\, едвај контролирајќи се\, го потсетува колку многу го сака и забрзано излегува. Слугата му го врачува прошталното писмо на Алфред\, а татко му го теши потсетувајќи го на убавиот семеен живот во Прованса. Откако Алфред ја забележал поканата на Флора тој се посомневал дека Виолета сака да го отфрли поради некој друг љубовник\, па затоа се одлучува самиот да и се спротивстави на забавата.\n\nIII ЧИН\n\nСцена 1. Забавата кај Флора. Маркизот Обињи и кажува на Флора дека Виолета и Алфред се разделиле. Подиумот се расчистува за настапот на професионалните забавувачи: група Циганки - гатачки и неколку матадори кои пеат за Пикиљо и неговата љубена. Набргу пристигнува и Алфред\, кој кажува неколку горчливи коментари за љубовта и започнува ноншалантно да се коцка. Пристигнува Виолета придружувана од баронот Дуфол\, кој го предизвикува Алфред на партија карти. На коцкарската маса баронот губи мало богатство. Сите навиваат\, а Виолета го моли Алфред да се видат насамо. Таа е преплашена од лутината на баронот и го преколнува Алфред да си замине. Алфред погрешно ја толкува нејзината загриженост и бара таа да признае дека го сака баронот. Скршена\, таа се преправа дека тоа е точно. Сега Алфред ги повикува останатите гости да се соберат\, јавно објавува дека ја раскинува својата поранешна љубов и пред нозете на Виолета ги фрла парите добиени на коцка. Таткото Жермон влегува токму навреме за да види што се случува и го осудува однесувањето на својот син. Гостите остро го критикуваат Алфред\, а баронот Дуфол го предизвикува на двобој.\n\nСцена 2. Шест месеци подоцна\, во спалната соба на Виолета Валери. Доктор Гренвил и соопштува на Анина дека нејзината господарка е болна од туберкулоза и дека нема уште долго да живее. Виолета е сама и го препрочитува писмото што и го испратил Жермон. Во него тој ја известува дека баронот е само ранет во дуелот со Алфред\, а тој ја знае вистината и е на пат да побара прошка од неа. Меѓутоа\, Виолета знае дека е предоцна за сè. Во Париз владее карневалско расположение. По улиците минуваат весели луѓе. Анина влегува да го најави Алфред. Вљубените во жар планираат засекогаш да го напуштат Париз. Влегува Жермон придружуван од докторот додека Виолета се обидува да ја собере последната трошка сила. Чувствува дека животот и се враќа\, но таа се тетерави и мртва паѓа пред нозете на својот сакан.\n\n \n\n \n\n 
URL:https://operabalet.mk/event/%d1%82%d1%80%d0%b0%d0%b2%d0%b8%d1%98%d0%b0%d1%82%d0%b0-%d1%9f%d1%83%d0%b7%d0%b5%d0%bf%d0%b5-%d0%b2%d0%b5%d1%80%d0%b4%d0%b8-27-10-2023/
LOCATION:Array
CATEGORIES:опера
ATTACH;FMTTYPE=image/jpeg:https://operabalet.mk/wp-content/uploads/2017/04/traviata-slide.jpg
END:VEVENT
END:VCALENDAR