BEGIN:VCALENDAR
VERSION:2.0
PRODID:-//Национална опера и балет - ECPv4.0.7//NONSGML v1.0//EN
CALSCALE:GREGORIAN
METHOD:PUBLISH
X-WR-CALNAME:Национална опера и балет
X-ORIGINAL-URL:https://operabalet.mk
X-WR-CALDESC:Events for Национална опера и балет
BEGIN:VEVENT
DTSTART;TZID="Europe/Skopje":20231031T080000
DTEND;TZID="Europe/Skopje":20231031T230000
DTSTAMP:20260423T111234
CREATED:20230915T101031
LAST-MODIFIED:20231026T113534
UID:3859-1698739200-1698793200@operabalet.mk
SUMMARY:„ТРАВИЈАТА“ - ЏУЗЕПЕ ВЕРДИ (31.10.2023)
DESCRIPTION:\nЏУЗЕПЕ ВЕРДИ\n„ТРАВИЈАТА“\n31.10.2023 почеток 20ч.\nДиригент: Бисера Чадловска\nРежисер: Верена Штојбер (Германија) \nСценограф и костимограф: Софија Шнајдер (Германија)\nКореограф: Саша Ефтимова\nАсс.режисер: Трајко Јордановски\, Љупка Јакимовска\nАсс. Диригент: Катерина Стојковска\nКонцерт-мајстор: Верица Ламбевска\nХор-мајстор: Ѓурѓица Дашиќ\nКорепетитор: Елена Сиљаноска\, Јанинка Невчева\, Андреја Наунов\, Јордан Петрушевски\nНастапуваат:\nВиолета Валери:  Наде Талевска\nАлфред Жермон: Благој Нацоски\nЖорж Жермон: Марјан Јованоски\nФлора Бервоа: Марика Поповиќ\nАнина: Александра Лазарoвска Василевски\nБарон Дуфол: Васко Здравков\nМаркиз Д’ Обињи: Драган Ампов\nГастон: Дејан Стоев\nД-р Гренвил: Борко Биџовски\nЏузепе: Игор Гиновски\nКомесарио:  Тихомир Јакимовски \nНастапуваат: хорот\, балетскиот ансамбл и оркестарот на Национална опера и балет\nИспициенти: Љупчо Полизов\, Драган Костадиновиќ\, Марко Павлевски\nСуфлер:   Невена Георгиева
URL:https://operabalet.mk/event/%d1%82%d1%80%d0%b0%d0%b2%d0%b8%d1%98%d0%b0%d1%82%d0%b0-%d1%9f%d1%83%d0%b7%d0%b5%d0%bf%d0%b5-%d0%b2%d0%b5%d1%80%d0%b4%d0%b8-31-10-2023/
LOCATION:Array
CATEGORIES:опера
ATTACH;FMTTYPE=image/jpeg:https://operabalet.mk/wp-content/uploads/2017/04/traviata-slide.jpg
END:VEVENT
END:VCALENDAR