BEGIN:VCALENDAR
VERSION:2.0
PRODID:-//Национална опера и балет - ECPv4.0.7//NONSGML v1.0//EN
CALSCALE:GREGORIAN
METHOD:PUBLISH
X-WR-CALNAME:Национална опера и балет
X-ORIGINAL-URL:https://operabalet.mk
X-WR-CALDESC:Events for Национална опера и балет
BEGIN:VEVENT
DTSTART;TZID="Europe/Skopje":20250113T200000
DTEND;TZID="Europe/Skopje":20250113T213000
DTSTAMP:20260423T074017
CREATED:20241224T113719
LAST-MODIFIED:20250110T132144
UID:4369-1736798400-1736803800@operabalet.mk
SUMMARY:Традиционален концерт по повод празникот „Василица“ (13.1.2025)
DESCRIPTION:\nТрадиционален концерт по повод празникот \,\,Василица\,\, 2025\n11ти и 13ти jануари 2025г.\n20.00ч.\nДиригент: Оливер Диаз/ Oliver Diaz - Шпанија\nРежисер: Дејан Прошев\nСценографија и видео анимации: Марија Ветероска\nСветло дизајн: Милчо Александров\nНастапуваат:\nИрене Палазон Irene Palazon – Сопран - Шпанија\nХозе Луис Сола Jose Luis Sola – Тенор- Шпанија\nПрограма:\n1. Џ. Верди - Увертира од операта Набуко\n2. Ф. Чилеа – арија на Федерико од операта Арлезијанка\nИсполнува: Хозе Луис Сола\n3. Џ. Пучини – арија на Лиу од опера Турандот\nИсполнува: Ирене Палазон\n4. Џ. Верди –дует на Виолета Валери и Алфредо од операта Травијата\nИсполнуваат: Ирене Палазон и Хозе Луис Сола\n5. П. Маскањи – Интермецо од операта Кавалерија рустикана\n6. Џ. Пучини – арија на Џорџета од операта Џани Скики\nИсполнува: Ирене Палазон\n7. Г. Доницети – арија на Неморино од операта Љубовен напиток\nИсполнува: Хозе Луис Сола\n8. Џ. Пучини – дует на Мими и Родолфо од операта Боеми\n9.  Ј. Штраус - уверитра од операта Лиљакот\n10. Џ.Пучини – арија на Мизета од операта Боеми\nИсполнува: Ирене Палазон\n11. П.Сорозбал – арија на Леандро од операта „Таверна покрај...“\nИсполнува: Хозе Луис Сола\n12. Џ.Верди – дует на Виолета Валери и Алфредо од операта Травијата/ Винска песна \nИсполнуваат: Ирене Палазон и Хозе Луис Сола\nНастапува оркестарот на Национална опера и балет\nИнспициенти : Драган Костадиновиќ\, Марко Павлевски\n 
URL:https://operabalet.mk/event/%d1%82%d1%80%d0%b0%d0%b4%d0%b8%d1%86%d0%b8%d0%be%d0%bd%d0%b0%d0%bb%d0%b5%d0%bd-%d0%ba%d0%be%d0%bd%d1%86%d0%b5%d1%80%d1%82-%d0%bf%d0%be-%d0%bf%d0%be%d0%b2%d0%be%d0%b4-%d0%bf%d1%80%d0%b0%d0%b7%d0%bd-10/
LOCATION:Array
CATEGORIES:концерт
ATTACH;FMTTYPE=image/png:https://operabalet.mk/wp-content/uploads/2024/12/orkestar_vasilica.png
END:VEVENT
END:VCALENDAR