BEGIN:VCALENDAR
VERSION:2.0
PRODID:-//Национална опера и балет - ECPv4.0.7//NONSGML v1.0//EN
CALSCALE:GREGORIAN
METHOD:PUBLISH
X-WR-CALNAME:Национална опера и балет
X-ORIGINAL-URL:https://operabalet.mk
X-WR-CALDESC:Events for Национална опера и балет
BEGIN:VEVENT
DTSTART;TZID="UTC+0":20200619T200000
DTEND;TZID="UTC+0":20200619T213000
DTSTAMP:20260424T003501
CREATED:20200616T060822
LAST-MODIFIED:20200616T060822
UID:2785-1592596800-1592602200@operabalet.mk
SUMMARY:Традиционален концерт по повод празникот „Василица“ - „LEGENDS“ - (19.6.2020)
DESCRIPTION:\nОПЕРА И БАЛЕТ ВО ВАШИТЕ ДОМОВИ \nДраги љубители на оперската и балетска уметност\,\nПочнувајќи од вторник\, 7 април со почеток во 20.00 часот на официјалниот YouTube канал на Националната опера и балет\, секој вторник и петок ќе имате можност да ги погледнете вашите омилени оперски и балетски претстави.\nЛинк до каналот:\nhttps://www.youtube.com/user/makoib\n\nТрадиционален концерт по повод празникот „Василица“\n„LEGENDS“\n \n\n\nНационалната опера и балет  ќе ја започне 2020 година со традиционалниот гала концерт по повод празникот „Василица“ на 12 и 13 јануари\, насловен „Legends“ кој оваа година ќе и приреди на публиката вистинско и незаборавно уживање со изборот на песни од најдобрите музички поп легенди\,  во целосно нови симфониски аранжмани!\n\nНастапуваат солисти\, оркестарот и хорот на Националната опера и балет!\n\nДиригент: Бисера Чадловска
URL:https://operabalet.mk/event/%d1%82%d1%80%d0%b0%d0%b4%d0%b8%d1%86%d0%b8%d0%be%d0%bd%d0%b0%d0%bb%d0%b5%d0%bd-%d0%ba%d0%be%d0%bd%d1%86%d0%b5%d1%80%d1%82-%d0%bf%d0%be-%d0%bf%d0%be%d0%b2%d0%be%d0%b4-%d0%bf%d1%80%d0%b0%d0%b7%d0%bd-2/
LOCATION:бул. Гоце Делчев бр.4\, Скопје\, Скопје\, 1000\, Macedonia
CATEGORIES:концерт
ATTACH;FMTTYPE=image/jpeg:https://operabalet.mk/wp-content/uploads/2019/12/vasilica2020.jpg
END:VEVENT
END:VCALENDAR