BEGIN:VCALENDAR
VERSION:2.0
PRODID:-//Национална опера и балет - ECPv4.0.7//NONSGML v1.0//EN
CALSCALE:GREGORIAN
METHOD:PUBLISH
X-WR-CALNAME:Национална опера и балет
X-ORIGINAL-URL:https://operabalet.mk
X-WR-CALDESC:Events for Национална опера и балет
BEGIN:VEVENT
DTSTART;TZID="UTC+0":20210112T200000
DTEND;TZID="UTC+0":20210112T211500
DTSTAMP:20260423T152852
CREATED:20201228T103859
LAST-MODIFIED:20201228T170511
UID:2890-1610481600-1610486100@operabalet.mk
SUMMARY:ТРАДИЦИОНАЛЕН КОНЦЕРТ ПО ПОВОД ПРАЗНИКОТ „ВАСИЛИЦА“ (12.1.2021)
DESCRIPTION:\n\n\n\nНационалната опера и балет ја продолжува традицијата востановена пред повеќе од 25 години\, и во вторник\, 12 и среда\, 13 јануари\, 2021 г. ќе го одржи гала концертот по повод празникот „Василица“.\n\nОваа година концертот носи наслов „Најголемите хитови“\, односно\, направен е избор од најдобрите хитови од досегашните василичарски концерти\, со симфониски аранжмани . Публиката ќе има можност да ужива во популарните странски и македонски хитови во изведба на оперски и поп солисти\, придружувани од оркестарот на Националната опера и балет под диригентската палка на Бисера Чадловска. \n\nПочитувајќи ја традицијата на нашиот народ да ја прославува т.н. „Стара Нова Година“\, Националната опера и балет го востанови овој концерт во 1993 година и низ годините потоа\,  тој стана препознатлив\, популарен и еден од најпосетените настани кај нас.
URL:https://operabalet.mk/event/%d1%82%d1%80%d0%b0%d0%b4%d0%b8%d1%86%d0%b8%d0%be%d0%bd%d0%b0%d0%bb%d0%b5%d0%bd-%d0%ba%d0%be%d0%bd%d1%86%d0%b5%d1%80%d1%82-%d0%bf%d0%be-%d0%bf%d0%be%d0%b2%d0%be%d0%b4-%d0%bf%d1%80%d0%b0%d0%b7%d0%bd-3/
LOCATION:Array
CATEGORIES:концерт
ATTACH;FMTTYPE=image/jpeg:https://operabalet.mk/wp-content/uploads/2020/12/VASILICA_2021.jpg
END:VEVENT
END:VCALENDAR