BEGIN:VCALENDAR
VERSION:2.0
PRODID:-//Национална опера и балет - ECPv4.0.7//NONSGML v1.0//EN
CALSCALE:GREGORIAN
METHOD:PUBLISH
X-WR-CALNAME:Национална опера и балет
X-ORIGINAL-URL:https://operabalet.mk
X-WR-CALDESC:Events for Национална опера и балет
BEGIN:VEVENT
DTSTART;TZID="Europe/Skopje":20231214T210000
DTEND;TZID="Europe/Skopje":20231214T230000
DTSTAMP:20260423T085649
CREATED:20231117T094353
LAST-MODIFIED:20231214T162637
UID:3923-1702587600-1702594800@operabalet.mk
SUMMARY:ФОЛКЛОРНО-КЛАСИЧНА СИМБИОЗА (14.12.2023)
DESCRIPTION:\nФОЛКЛОРНО-КЛАСИЧНА СИМБИОЗА\n14\,12.2023\, 21:00 часот\nГолема сала на Национална опера и балет\nМузичко-сценски спектакл на НУ НАЦИОНАЛНА ОПЕРА И БАЛЕТ И НУ ТАНЕЦ \nЗа прв пат во историјата овие две национални установи\, со повеќе од 130 учесници на сцена\, ќе прозвучат заедно во симфонизираните антологиоски кореографии на ТАНЕЦ\, „Осоговка„\, „Малешевка“\, „Жетварка“\, „Пиринско пролетно цвеќе“ и „Водарки“\, како и во многу други македонски орски и вокални мелодии\, обмислени во ново раскошно руво.\n \nДиригент: Бисера Чадловска\nКонцерт - мајстор: Верица Ламбевска\nХор - мајстор: Ѓурѓица Дашиќ\nОркестрациите за Осоговка\, Водарки\,Малешевка\, Жетварка и Пиринско пролетно цвеќе: Дарко Илиевски\nИнспициенти: Љупчо Полизов\, Драган Костадиновиќ\, Марко Павлевски\nНастапува оркестарот\, хорот и играорниот кор на  Танец\, заедно со оркестарот и хорот на  Национална опера и балет\nПрограма: \nОСОГОВКА\n(Д. М. Алексов - Ѓ. Димчевски)\nВОДАРКИ\n(Б. Велевски / Д. М. Алесков - Ѓ. Димчевски)\nКАРАВЛАШКО ОРО\n(К. Петровски - ар. Д. Илиевски)\nЧЕТВОРКА\n(П. Атанасовски - ар. Д. Илиевски)\nПИПЕРКОВО ОРО\n(Т. Огненовски - ар. Д. Илиевски)\nМАЛЕШЕВКА\n(Ј. Блажевски - С. Митев / В. Терзиски)\nКОГА СЕ МАЖЕШЕ\, ШТО ТИ СЕ ЧИНЕШЕ\n(народна - ар. Д. Илиевски)\nСВИТА ВО 12/8\n(сплет народни песни - ар. Д. Илиевски)\nЖЕТВАРКА\n(Д. М. Алексов - Ѓ. Димчевски)\nАЈДЕ БОЛНО ЛЕЖИ МОЈТО ЛИБЕ\n(народна - ар. Д. Илиевски)\nДРАЧЕВКА\n(народно оро - ар. Д. Илиевски)\nПИРИНСКО ПРОЛЕТНО ЦВЕЌЕ\n(С. Каранфиловски– С. Костовски/ K. Зифовски)
URL:https://operabalet.mk/event/%d1%84%d0%be%d0%bb%d0%ba%d0%be%d1%80%d0%bd%d0%be-%d0%ba%d0%bb%d0%b0%d1%81%d0%b8%d1%87%d0%bd%d0%b0-%d1%81%d0%b8%d0%bc%d0%b1%d0%b8%d0%be%d0%b7%d0%b0-14-12-2023/
LOCATION:Array
CATEGORIES:концерт
ATTACH;FMTTYPE=image/jpeg:https://operabalet.mk/wp-content/uploads/2023/11/simbioza.jpg
END:VEVENT
END:VCALENDAR