BEGIN:VCALENDAR
VERSION:2.0
PRODID:-//Национална опера и балет - ECPv4.0.7//NONSGML v1.0//EN
CALSCALE:GREGORIAN
METHOD:PUBLISH
X-WR-CALNAME:Национална опера и балет
X-ORIGINAL-URL:https://operabalet.mk
X-WR-CALDESC:Events for Национална опера и балет
BEGIN:VEVENT
DTSTART;TZID="Europe/Skopje":20250117T200000
DTEND;TZID="Europe/Skopje":20250117T220000
DTSTAMP:20260423T085729
CREATED:20241227T144023
LAST-MODIFIED:20250120T080613
UID:4380-1737144000-1737151200@operabalet.mk
SUMMARY:„ШЕХЕРЕЗАДА“ - Николај Римски Корсаков и „ВАЛПУРГИСКА НОЌ“ - Шарл Гуно (17.1.2025)
DESCRIPTION:\n„ШЕХЕРЕЗАДА“ - Николај Римски Корсаков\n„ВАЛПУРГИСКА НОЌ“ - Шарл Гуно\n(балетска претстава)\n17.1.2025\, 20 часот \n \nШЕХЕРЕЗАДА – Николај Римски Корсаков\nДиригент: Бисера Чадловска\nКореограф: Михаил Крапивин (Русија) – пренел Михаил Фокин\nСценограф: Марија Ветероска – по сценографијата на Л. Бакст\nКостимограф: Маја Бурсаќ (Србија) – по костимографија на Л. Бакст\nКонцерт мајстор: Верица Ламбевска\nРепетитори: Володимир Борисов (Украина)\, Киро Павлов\, Александра Мијалкова\, Саша Евтимова\, Дафина Данилоска-Кочевска\, Марија Јосифовска Ристовска\,\nНастапуваат:\nЗабеида: Ивана Коцевска\nЗлатен роб: Балаж Лашеи (Унгарија)\n-ПАУЗА-\n„ВАЛПУРГИСКА НОЌ“ - Шарл Гуно\n(Балетски дел од операта „Фауст“ на Шарл Гуно)\nДиригент: Бисера Чадловска\nКореограф: Михаил Лавровски\nПренел и режирал: Јуриј Мјачин (Русија)\nСценограф: Илија Аризанов\nКостимограф: Изабела Поњавиќ\nКонцерт мајстор: Верица Ламбевска\nСолисти: Христина Наќевска Митрашиновиќ\, Франциско Хименес Руиз (Шпанија)\, Балаж Лочеи (Унгарија)\, Валери Љубенко (Украина)\nНастапуваат првенци\, истакнати солисти\, солисти\, балетскиот ансамбл на Националната опера во придружба на оркестарот на Националната опера и балет.\nСинопсис Шехерзада:\nЦарот Шархијар се одмара во својата одаја. Неговиот брат шахот Земан го забавуваат харемските девојки со песна и игра. Шахријар е заинтересиран само за својата миленичка Забеида\, но Земан се сомнева во нејзината верност. Шахријар\, потпаѓа под влијание на Земан и објавува дека ќе оди на лов\, а девојките од харемот ја заговараат Забеида да му пријде на Шахријар и да му посака среќа во ловот\, за да се оттргне секое сомнение. Кога мажите одат\, девојките го поткупуваат главниот евнух кој ги чува да ја отвори вратата од харемот. Црните робови влегуваат во харемот и почнуваат оргии со жените на Шахријар. Забеида за себе го одбира најубавиот меѓу нив. Одеднаш се враќа Шахријар. Сомневањето на Земан се потврдува. Смртната казна пристигнува за робовите и евнусите. Забеида го моли царот за милост и го убедува во нејзината верна љубов.Иако за момент се колеба\, Шахријар за да ја спаси својата чест ја жртвува својата љубов. Забеида која не наоѓа решение се самоубива во прегратката на царот Шахриј.\nСинопсис Валпургиска Ноќ\nНа 27 јануари 1949 година\, изведен е првиот самостоен балетски настап на ансамблот\, со „Валпургиска ноќ“\, балетскиот дел од операта „Фауст“ на Шарл Гуно\, во кореографија на Ѓорѓи Македонски. Во 1949 година и официјално е формиран Балетот при Македонскиот народен театар.\n
URL:https://operabalet.mk/event/%d1%88%d0%b5%d1%85%d0%b5%d1%80%d0%b5%d0%b7%d0%b0%d0%b4%d0%b0-%d0%bd%d0%b8%d0%ba%d0%be%d0%bb%d0%b0%d1%98-%d1%80%d0%b8%d0%bc%d1%81%d0%ba%d0%b8-%d0%ba%d0%be%d1%80%d1%81%d0%b0%d0%ba-2/
LOCATION:Array
CATEGORIES:балет
ATTACH;FMTTYPE=image/jpeg:https://operabalet.mk/wp-content/uploads/2022/06/sheherezada_valpurgiska.jpg
END:VEVENT
END:VCALENDAR