BEGIN:VCALENDAR
VERSION:2.0
PRODID:-//Национална опера и балет - ECPv4.0.7//NONSGML v1.0//EN
CALSCALE:GREGORIAN
METHOD:PUBLISH
X-WR-CALNAME:Национална опера и балет
X-ORIGINAL-URL:https://operabalet.mk
X-WR-CALDESC:Events for Национална опера и балет
BEGIN:VEVENT
DTSTART;TZID="UTC+0":20210305T200000
DTEND;TZID="UTC+0":20210305T204500
DTSTAMP:20260423T170012
CREATED:20210223T111815
LAST-MODIFIED:20210223T135348
UID:2986-1614974400-1614977100@operabalet.mk
SUMMARY:„Шехерезада“ - Н. Р. Корсаков (концертна изведба\, 5.3.2021)
DESCRIPTION:\nКонцертна изведба на прекрасното дело „Шехерезада“ од Николај Римски Корсаков\nОркестарот на Националната опера и балет\nДиригент: Бисера Чадловска\nКонцерт мајстор: Верица Ламбевска\nНАПОМЕНА:\n\n*Настанот ќе се одржи според протоколите предвидени со моменталната состојба предизвикана од пандемијата Ковид-19 за одржување настани\, одобрени од Комисијата за заразни болести. Задолжително е носење на заштитна маска.\nВе молиме\, почитувајте ги мерките за заштита.\n*Распоредот на онлајн билетите  е во пар од две седишта едно до друго\, на пример седиште 5 и 6\, две слободни седишта\, па 9 и 10 седиште се на продажба. Доколку имате потреба од единечен билет или комбинација од 3 споени седишта ве молиме контактирајте не на телефонскиот број 078 426 536.
URL:https://operabalet.mk/event/%d1%88%d0%b5%d1%85%d0%b5%d1%80%d0%b5%d0%b7%d0%b0%d0%b4%d0%b0-%d0%bd-%d1%80-%d0%ba%d0%be%d1%80%d1%81%d0%b0%d0%ba%d0%be%d0%b2-5-3-2021/
LOCATION:Array
CATEGORIES:концерт
ATTACH;FMTTYPE=image/jpeg:https://operabalet.mk/wp-content/uploads/2020/09/orkestar-efekt.jpg
END:VEVENT
END:VCALENDAR