BEGIN:VCALENDAR
VERSION:2.0
PRODID:-//Национална опера и балет - ECPv4.0.7//NONSGML v1.0//EN
CALSCALE:GREGORIAN
METHOD:PUBLISH
X-WR-CALNAME:Национална опера и балет
X-ORIGINAL-URL:https://operabalet.mk
X-WR-CALDESC:Events for Национална опера и балет
BEGIN:VEVENT
DTSTART;TZID="UTC+0":20161005T200000
DTEND;TZID="UTC+0":20161005T210000
DTSTAMP:20260425T165222
CREATED:20160821T161514
LAST-MODIFIED:20160926T105321
UID:637-1475697600-1475701200@operabalet.mk
SUMMARY:ЈАС ИСИДОРА - модерен балет (мала сцена)
DESCRIPTION:Инспирацијата за претставата е големата американска балерина Исидора Данкан која живее на почетокот на 20 век. Дејството се случува со доаѓањето на Исидора во Москва и нејзината средба со големиот руски поет Сергеј Есенин...\n\nЛибрето\, кореографија и режија: Олга Панго\nМузика: Калиопи Букле\nСценографија и костимографија: Благој Мицевски\n\nНАСТАПУВААТ:\nИсидора: Саша Евтимова\nЕсенин: Игор Веланоски\nЈас Исидора: Maрија Јосифовска Ристовска\nДафина Данилоска\, Билјана Басмаџиева\, Марина Анастасовска\, Стефан Кочевски\n\nСодржина:\nИнспирацијата за претставата е големата американска балерина Исидора Данкан која живее на почетокот на 20 век. Дејството се случува со доаѓањето на Исидора во Москва и нејзината средба со големиот руски поет Сергеј Есенин. Тој и се восхитува на Исидора и неговото додворување буди страст кај неа. Нивната врска завршува со брак\,а заедништвото им е поддржано од физичката привлечност\, неконвенционалноста на која ја манифестираат својата уметност и идеата за еднаквост на сите луѓе (комунизмот).\nТие воопшто не се тивки општествени битија\, ами бучни ѕверки чии што дела секогаш\, без исклучок\, креваат голем прав. Поради тоа нивниот живот е под постојана присмотра од очите на јавноста. Есениновата поетска генијалност влегува во сенката на рамнодушноста и неговата склоност кон алкохолот. Поради ниската етика паѓа во прегратките на други жени\, мрежа скандали која е испреплетена од јавноста. Исидора воид битка и со него и со општеството. Почнува да се прашува: \,\,Што барам тука?“ \, \,\,Која сум јас?“ \, \,\,Уметност или љубов?“ Веќе не сака да се арчи себеси во оваа јалова земја и решава да замине и да го напушти Есенин. Искусува олеснување\, а наспроти неа тој останува сам во друштво со алкохолот. Не му преостанува ништо друго освен да се пијанчи\, и по долго трагање ја добива сликата на \,\,Црниот човек“ и тука е неговиот крај.
URL:https://operabalet.mk/event/%d1%98%d0%b0%d1%81-%d0%b8%d1%81%d0%b8%d0%b4%d0%be%d1%80%d0%b0-%d0%bc%d0%be%d0%b4%d0%b5%d1%80%d0%b5%d0%bd-%d0%b1%d0%b0%d0%bb%d0%b5%d1%82-%d0%bc%d0%b0%d0%bb%d0%b0-%d1%81%d1%86%d0%b5%d0%bd%d0%b0/
LOCATION:бул. Гоце Делчев бр.4\, Скопје\, Скопје\, 1000\, Macedonia
CATEGORIES:балет
ATTACH;FMTTYPE=image/jpeg:https://operabalet.mk/wp-content/uploads/2016/05/isidora.jpg
END:VEVENT
END:VCALENDAR