BEGIN:VCALENDAR
VERSION:2.0
PRODID:-//Национална опера и балет - ECPv4.0.7//NONSGML v1.0//EN
CALSCALE:GREGORIAN
METHOD:PUBLISH
X-WR-CALNAME:Национална опера и балет
X-ORIGINAL-URL:https://operabalet.mk
X-WR-CALDESC:Events for Национална опера и балет
BEGIN:VEVENT
DTSTART;TZID="UTC+0":20200428T200000
DTEND;TZID="UTC+0":20200428T210000
DTSTAMP:20260424T182536
CREATED:20200425T134016
LAST-MODIFIED:20200425T134016
UID:2745-1588104000-1588107600@operabalet.mk
SUMMARY:14 ЧАСА - Балет (дигитална премиера 28.4.2020)
DESCRIPTION:\nОПЕРА И БАЛЕТ ВО ВАШИТЕ ДОМОВИ \nДраги љубители на оперската и балетска уметност\,\nПочнувајќи од вторник\, 7 април со почеток во 20.00 часот на официјалниот YouTube канал на Националната опера и балет\, секој вторник и петок ќе имате можност да ги погледнете вашите омилени оперски и балетски претстави.\nЛинк до каналот:\nhttps://www.youtube.com/user/makoib\n14 ЧАСА\nСовремен балет\nМузика: Кирил Џајковски\nКореографија и сценографско идејно решение: Игор Киров\nРежија/Либрето: Наташа Поплавска\nКостимограф: Александар Ношпал\nВреметраење: 60 мин.\n\nИнспирирано од дуетот „Not too close“ на долунаведената авторско – изведувачко дуо Александра Мијалкова и Васил Чичијашвили. Ова современо балетско дело низ синџир од 12 сцени ќе ги разработи женско – машките односи преку ликовите на Лили и Марк.\n\n\nНастапуваат:\nАлександра Мијалкова\, Наташа Јосифовска\, Саша Евтимова\, Билјана Басмаџиева\, Ангела Велевска\nВасил Чичијашвили (Грузија)\, Бобан Ковачевски\, Игор Веланоски\, Јан Кисилев\, Трајче Стојковски\n\n\n14 HOURS\nContemporary ballet\nDuration: 60 min.\nMusic:Kiril Dzajkovski\nChoreography and set design: Igor Kirov\nDirection and libretto: Natasha Poplavska\nCostum design: Aleksandra Noshpal\n\nInspired by "Not too close"\,  a ballet duet performed by Aleksandra Mijalkova and Vasil Chichiyashvili\, this contemporary ballet will tell a story about the women - man relationships through the characters of Lily and Marc.\n\nCast:\nAleksandra Mijaklova\, Natasha Josifovska\, Sasha Evtimova\, Biljana Basmadzieva\, Angela Velevska\nVasil Chichiyashvili (Georgia)\, Boban Kovachevski\, Igor Velanoski\, Jan Kisilev\, Trajche Stojkovski
URL:https://operabalet.mk/event/14-%d1%87%d0%b0%d1%81%d0%b0-%d0%b1%d0%b0%d0%bb%d0%b5%d1%82-%d0%b4%d0%b8%d0%b3%d0%b8%d1%82%d0%b0%d0%bb%d0%bd%d0%b0-%d0%bf%d1%80%d0%b5%d0%bc%d0%b8%d0%b5%d1%80%d0%b0-28-4-2020/
LOCATION:Array
CATEGORIES:балет
ATTACH;FMTTYPE=image/jpeg:https://operabalet.mk/wp-content/uploads/2016/12/14-h.jpg
END:VEVENT
END:VCALENDAR