BEGIN:VCALENDAR
VERSION:2.0
PRODID:-//Национална опера и балет - ECPv4.0.7//NONSGML v1.0//EN
CALSCALE:GREGORIAN
METHOD:PUBLISH
X-WR-CALNAME:Национална опера и балет
X-ORIGINAL-URL:https://operabalet.mk
X-WR-CALDESC:Events for Национална опера и балет
BEGIN:VEVENT
DTSTART;TZID="UTC+0":20160908T193000
DTEND;TZID="UTC+0":20160908T203000
DTSTAMP:20260425T034039
CREATED:20160831T034731
LAST-MODIFIED:20160831T035618
UID:660-1473363000-1473366600@operabalet.mk
SUMMARY:14 ЧАСА - современ балет (народно позориште-Белград)
DESCRIPTION:Кореографија и сценографско идејно  решение: Игор  Киров\nМузика: Кирил  Џајковски\nРежија  и либрето: Наташа Поплавска\nКостимограф: Александар Ношпал\nАсистент кореогрaф:проф. м-р Тања Вујисић-Тодоровска\, Саша Евтимова\nДизајн на светло: Милчо Александров\n\nИнспирирано од дуетот „Not too close“ на  авторско – изведувачкото дуо Александра Мијалкова и Васил Чичијашвили. Ова современо балетско дело низ синџир од 12 сцени ќе ги разработи женско – машките односи преку ликовите на Лили и Марк\n\nСИНОПСИС\n\nЛили и Марк неочекувано на денот на прославата\, 10 години од бракот\, се судираат со суштинско преиспитување – наместо чиста љубов\, во нив (а и кај другите парови\, кои се нивни гости) се појавува недоверба\, тага\, радост\, страст\, меланхолија\, револт\, омраза\, љубов\, страв. . . И вечната дилема – што е ова што ни се случува?\n\nЗарем сме тоа ние од пред 10 години. Низ интеракција со нивните пријатели се разоткриваат машко-женските односи такви какви што се – исконски\, но и современи. Низ ланецот на дваесеттината слики кои се слеваат од една во друга ги препознаваме нивните емоционални дилеми и ги разоткриваме точките во кои се руши бракот. Огледалата\, како тивок и незабележлив сведок на емотивните состојби\, жестоко ни го откриваат паралелниот брак - оној кој Лили\, Марк и нивните пријатели никогаш не го опсервирале\, убедени дека секојдневието во изминатите години со ништо не се изменило. Во тие четиринаесеттина часа на преиспитување се случува трагиката на современиот машко-женски\, брачен однос. Низ бурата која актерите ја поминуваат\, на крајот\, сепак\, ќе победи љубовта!\n\nЛили и Марк во последната сцена се повторно сами\, изморени од љубовниот танц\, но среќни дека денот на прославата бил само една епизода полна со преиспитувања кои успешно ги враќаат по патот на љубовта и среќата.
URL:https://operabalet.mk/event/14-%d1%87%d0%b0%d1%81%d0%b0-%d1%81%d0%be%d0%b2%d1%80%d0%b5%d0%bc%d0%b5%d0%bd-%d0%b1%d0%b0%d0%bb%d0%b5%d1%82-%d0%bd%d0%b0%d1%80%d0%be%d0%b4%d0%bd%d0%be-%d0%bf%d0%be%d0%b7%d0%be%d1%80%d0%b8%d1%88/
LOCATION:Белград\, Serbia
CATEGORIES:балет
ATTACH;FMTTYPE=image/jpeg:https://operabalet.mk/wp-content/uploads/2016/08/14h.jpg
END:VEVENT
END:VCALENDAR