BEGIN:VCALENDAR
VERSION:2.0
PRODID:-//Национална опера и балет - ECPv4.0.7//NONSGML v1.0//EN
CALSCALE:GREGORIAN
METHOD:PUBLISH
X-WR-CALNAME:Национална опера и балет
X-ORIGINAL-URL:https://operabalet.mk
X-WR-CALDESC:Events for Национална опера и балет
BEGIN:VEVENT
DTSTART;TZID="Europe/Skopje":20260516T200000
DTEND;TZID="Europe/Skopje":20260516T223000
DTSTAMP:20260423T092938
CREATED:20260415T071529
LAST-MODIFIED:20260415T071529
UID:4927-1778961600-1778970600@operabalet.mk
SUMMARY:„Тоска“ - Џакомо Пучини (16.5.2026)
DESCRIPTION:\n54 МАЈСКИ ОПЕРСКИ ВЕЧЕРИ\n„Тоска“\nЏакомо Пучини\n16.5.2026\, 20:00 часот\nДиригент: Марчин Наленч - Њешјоловски - Полска\nРежисер: Огњан Драганов - Бугарија\nСценограф: Зоран Николовски\nКостимограф: Марија Пупучевска\nАсс. Диригент: Катерина Стојковска\nАсс. Режисер: Дејан Прошев\nКонцерт мајстор: Јане Бакевски\nХор мајстор: Ѓурѓица Дашиќ\, Јасмина Ѓорѓеска\nКорепетитори: Елена Сиљаноска\, Јанинка Невчева\, Андреја Наунов\, Анастасија Грговска\nИспициенти: Драган Костадиновиќ\, Марко Павлевски\, Катерина Бошковска\nСуфлери: Невена Георгиева\, Ивана Јордановска\nНастапуваат:\nФЛОРИЈА ТОСКА: Марија Јелиќ - Србија\nКАВАРАДОСИ: Милен Бошков - Бугарија\nСКАРПИЈА: Леонардо Лопез Линарез - Аргентина\nАНЏЕЛОТИ: Владимир Саздовски\nКЛИСАР: Драган Ампов\nСПОЛЕТА: Марјан Николовски\nШАРОНЕ: Кристијан Антовски\nКЛУЧАР: Никола Чедомировски\nОВЧАРЧЕ: Десанка Глигоријевиќ\nНАСТАПУВААТ ХОРОТ И ОРКЕСТАРОТ НА НАЦИОНАЛНА ОПЕРА И БАЛЕТ\n \nТЕМА:  Страст\, предавство и жртва. Љубовната симфонија одекнува во сенките на Рим.\nКРАТКА СОДРЖИНА\nСликарот Каварадоси му помага на избеганиот од затвор републиканец Анџелоти да се засолни\, но шефот на полицијата Скарпија и неговите агенти ja насетуваат трагата. Со вешти ветувања и закани\, Скарпија изнудува признание од Тоска\, љубовницата на сликарот\, и тој е фатен и осуден на смрт. Тоска бара помилување\, меѓутоа Скарпија одбива. Би го помилувал само доколку Тоска се согласи да биде негова. За да го спаси Каварадоси\, Тоска се согласува\, но за возврат бара Скарпија да му даде документи со кои безбедно ќе го напушти Рим.\nДоговорено е стрелањето да биде фиктивно. Скарпија ги подготвува документите и кога ja посакува Тоска\, таа го убива со нож. Веднаш му јавува на Каварадоси дека стрелањето ќе биде фиктивно.\nСкарпија\, меѓутоа\, наредил Каварадоси вистински да се стрела. Наредбата е извршена. Тоска\, целата избезумена\, сфаќа дека е измамена и пред да биде фатена од агентите на Скарпија\, се фрла од затворската тврдина во бездна.
URL:https://operabalet.mk/event/16-5-2026/
LOCATION:Array
CATEGORIES:опера
ATTACH;FMTTYPE=image/png:https://operabalet.mk/wp-content/uploads/2024/04/tosca_webslide_mov52.png
END:VEVENT
END:VCALENDAR