BEGIN:VCALENDAR
VERSION:2.0
PRODID:-//Национална опера и балет - ECPv4.0.7//NONSGML v1.0//EN
CALSCALE:GREGORIAN
METHOD:PUBLISH
X-WR-CALNAME:Национална опера и балет
X-ORIGINAL-URL:https://operabalet.mk
X-WR-CALDESC:Events for Национална опера и балет
BEGIN:VEVENT
DTSTART;TZID="UTC+0":20200623T200000
DTEND;TZID="UTC+0":20200623T213000
DTSTAMP:20260423T225528
CREATED:20200621T050542
LAST-MODIFIED:20200621T051256
UID:2786-1592942400-1592947800@operabalet.mk
SUMMARY:Корсар - балет (онлајн премиера 23.6.2020)
DESCRIPTION:\nОПЕРА И БАЛЕТ ВО ВАШИТЕ ДОМОВИ \nДраги љубители на оперската и балетска уметност\,\nПочнувајќи од вторник\, 7 април со почеток во 20.00 часот на официјалниот YouTube канал на Националната опера и балет\, секој вторник и петок ќе имате можност да ги погледнете вашите омилени оперски и балетски претстави.\nЛинк до каналот:\nhttps://www.youtube.com/user/makoib\nВо претставата се користи музика од Цезар Пуњи\, Рикардо Дриго и Пјотр Ојденбурски. Редакцијата на либретото е на Дмитриј Брјанцев\, а е работена по мотивите од делото на Џорџ Гордон Бајрон.\nКореограф и режисер е Дмитриј Брјанцев (народен артист на Русија)\, асистент на кореографот\, Михаил Крапивин (заслужен артист на Русија)\, диригент\, Бисера Чадловска\, сценограф и костимограф\, Владимир Арефјев (заслужен артист на Украина)\, асистенти на сценографот и костимограф\, Јасмина и Љупка Ристовски\, главен репетитор-педагог\, проф. м-р Тања Вујисиќ Тодоровска\, педагог-репетитор\, д-р Снежана Филиповска\, репетитори\, Саша Евтимова\, Лора Тарчуговска и Горан Божинов\, концерт-мајстор\, Костадин Богданоски\, додека во улогите настапуваат: Конрад-Бобан Ковачевски; Медора-Марија Кичевска Шокаровска; Ѓулнар-Наташа Јосифовска: Бербанто-Јан Кисилев; Сеид Паша-Трајче Стојковски и Евнух-Драган Пандиловски.\nНастапуваат балетскиот ансамбл и оркестарот на Националната опера и балет\n****************************************************************************************\n 
URL:https://operabalet.mk/event/2786/
LOCATION:Array
CATEGORIES:балет
ATTACH;FMTTYPE=image/gif:https://operabalet.mk/wp-content/uploads/2016/02/02.gif
END:VEVENT
END:VCALENDAR