BEGIN:VCALENDAR
VERSION:2.0
PRODID:-//Национална опера и балет - ECPv4.0.7//NONSGML v1.0//EN
CALSCALE:GREGORIAN
METHOD:PUBLISH
X-WR-CALNAME:Национална опера и балет
X-ORIGINAL-URL:https://operabalet.mk
X-WR-CALDESC:Events for Национална опера и балет
BEGIN:VEVENT
DTSTART;TZID="Europe/Skopje":20220521T200000
DTEND;TZID="Europe/Skopje":20220521T223000
DTSTAMP:20260423T181851
CREATED:20220418T145423
LAST-MODIFIED:20220428T121330
UID:3474-1653163200-1653172200@operabalet.mk
SUMMARY:„Жизел“ - Адолф Адам (21.5.2022)
DESCRIPTION:\n50 МАЈСКИ ОПЕРСКИ ВЕЧЕРИ\n Адолф Адам\n „Жизел“\n 21.5.2022\, 20:00\nДиригент: Давид Мукериа (Грузија)\nКореограф: Жан Корали\, Жил Перо\, Мариус Петипа\, Леонид Лавровски\nАдаптација: Ирена Пасариќ (Хрватска)\nСценограф: Александар Ношпал и Михајло Стојановски\nКостимограф: Александар Ношпал\nАсистент костимограф: Ангела Богеска\nКонцерт мајстор: Климент Тодороски\nСветло дизајн: Милчо Александров\nРепетитори: Елeонора Михајловна Стебљак (Украина)\, Горан Божинов\, Александра Мијалкова\, Лора Тарчуговска\, Билјана Пашариковска\nНастапуваат:\nЖизел: Кристина Дижмару (Романиа)\nАлберт: Станислав Ошланскиј (Украина)\nХиларион: Игор Веланоски\nМирта: Ивана Коцевска\nПа де де: Христина Наќевска\, Ендру Кук (Англија)\nСинопсис\nБалетот Жизел е романтичен балет во два чина. Од неговата праизведба во Париз 1841 година па до денес\, тоа е еден од ретките балети кој има непрекината традиција на изведување.\nПрвиот чин ја прикажува средбата на Жизел-девојка од село и грофот Алберт\, кој е дојден на лов. Таа безгранично се вљубува во него\, но не знае дека тој е благородник. Шумарот Хиларион\, кој исто така ја сака Жизел\, дознава за потеклото на грофот и кога неговата свита доаѓа во градот\, меѓу кои и неговата свршеница Батилда\, тој го разоткрива Алберт пред сите. Жизел не можејќи да ја прифати лагата за лажната љубов умира од болка.\nВториот чин ја прикажува играта на самовилите\, кои всушност се девојки кои умираат пред својата свадба. Тие преку ноќ излегуваат од своите гробови и танцуваат. Секој што ќе ја види нивната игра мора да умре.\nТаа ноќ во шумата доаѓа Хиларион\, а потоа и Алберт и ја искажуваат својата љубов на мртвата Жизел. Хиларион е фатен од самовилите и убиен\, а Алберт го спасува љубовта на Жизел\, која со него игра до раните зори. Кога сонцето изгрева самовилите исчезнуваат.
URL:https://operabalet.mk/event/3474/
LOCATION:Array
CATEGORIES:балет
ATTACH;FMTTYPE=image/jpeg:https://operabalet.mk/wp-content/uploads/2022/04/ZIZEL.jpg
END:VEVENT
END:VCALENDAR