BEGIN:VCALENDAR
VERSION:2.0
PRODID:-//Национална опера и балет - ECPv4.0.7//NONSGML v1.0//EN
CALSCALE:GREGORIAN
METHOD:PUBLISH
X-WR-CALNAME:Национална опера и балет
X-ORIGINAL-URL:https://operabalet.mk
X-WR-CALDESC:Events for Национална опера и балет
BEGIN:VEVENT
DTSTART;TZID="Europe/Skopje":20250407T200000
DTEND;TZID="Europe/Skopje":20250407T220000
DTSTAMP:20260423T111408
CREATED:20250324T104530
LAST-MODIFIED:20250402T141754
UID:4475-1744056000-1744063200@operabalet.mk
SUMMARY:39 Интернационален музички фестивал во Анкара (гостување)
DESCRIPTION:\nПочитувани\,\nВе известуваме дека на 7.4.2025 со почеток од 20 часот\, македонскиот национален балет ќе настапи на 39-от Интернационален музички фестивал во Анкара\, кој се одржува во период од 4 до 30 април\, во Анкара.\nБалетот ќе настапи со „Патување“ (современ балет) кој премиерно ќе биде изведен во Анкара.\nКореграф: Џан Арслан (Турција)\nМузика: Езио Босо\nАсистент-кореограф: Саша Евтимова\nКостимограф: Марија Пупучевска\nНастапуваат: Саша Евтимова\, Наташа Трендафилова Гицев\, Симона Колиштркоска\, Илијана Данилов\, Ева Перковска\, Франциско Хименез Руиз\, Балаж Лочеи\, Валери Љубенко\, Ендру Кук и Веселин Трајковски\nОрганизатор на овој проект е Киро Палов\, менаџер на балетот и операта при Македонската опера и балет и Џан Арслан\, кореограф кој е познат на македонската публика по кантата „Кармина Бурана“\, која премиерно беше изведена на 21.6.2006.\n Истата вечер на сцената ќе настапат и Акрам Хан компанијата од Лондон.
URL:https://operabalet.mk/event/39-%d0%be%d1%82-%d0%b8%d0%bd%d1%82%d0%b5%d1%80%d0%bd%d0%b0%d1%86%d0%b8%d0%be%d0%bd%d0%b0%d0%bb%d0%b5%d0%bd-%d0%bc%d1%83%d0%b7%d0%b8%d1%87%d0%ba%d0%b8-%d1%84%d0%b5%d1%81%d1%82%d0%b8%d0%b2%d0%b0%d0%bb/
LOCATION:Array
CATEGORIES:балет
ATTACH;FMTTYPE=image/png:https://operabalet.mk/wp-content/uploads/2025/03/ankara-gostuvanje.png
END:VEVENT
END:VCALENDAR