BEGIN:VCALENDAR
VERSION:2.0
PRODID:-//Национална опера и балет - ECPv4.0.7//NONSGML v1.0//EN
CALSCALE:GREGORIAN
METHOD:PUBLISH
X-WR-CALNAME:Национална опера и балет
X-ORIGINAL-URL:https://operabalet.mk
X-WR-CALDESC:Events for Национална опера и балет
BEGIN:VEVENT
DTSTART;TZID="UTC+0":20200926T210000
DTEND;TZID="UTC+0":20200926T220000
DTSTAMP:20260423T170204
CREATED:20200918T123403
LAST-MODIFIED:20200925T093502
UID:2810-1601154000-1601157600@operabalet.mk
SUMMARY:40 Години уметничка дејност на Славица Петровска Галиќ
DESCRIPTION:\n\nОперски концерт на првенката\, сопранот Славица Петровска Галиќ\, со гости солисти\, нејзини студенти низ годините. Настанот е во рамките на манифестацијата „Бела ноќ“ 2020\, и ќе се одржи во фоајето на Националната опера и балет.\n\nПокрај Славица Петровска Галиќ ќе настапат и Наде Талевска Спасовска\, Влатко Груевски\, Васко Здравков\, Злата Тошевска\, Билјана Јосифов\, Бесијана Мехмети\, Фиола Исеими\, Девана Ѓорѓиевска\, Мартина Аврамовска\, Ана Ројдева и Марија Наумовска.\n\nАндреја Наунов – пијано.\n\nВлезот за публиката ќе биде отворен во 20:30 часот\, настанот почнува во 21 часот на плоштадот „Мајка Тереза“\, плато на Национална опера и балет.\n\nНАПОМЕНА: Влезот за публиката ќе биде отворен во 20.30 ч.\, почеток на настанот е 21.00 ч. Билетите се во строго ограничен број\, а седиштата се на раздалеченост од 2  метри.\n\nНастанот ќе се одржи според протоколите предвидени со моменталната состојба предизвикана од пандемијата Ковид–19  за одржување настани\, одобрени од Комисијата за заразни болести.\n\nЗадолжително е носење на заштитна маска.\n\nВе молиме\, почитувајте ги мерките за заштита.
URL:https://operabalet.mk/event/40-%d0%b3%d0%be%d0%b4%d0%b8%d0%bd%d0%b8-%d1%83%d0%bc%d0%b5%d1%82%d0%bd%d0%b8%d1%87%d0%ba%d0%b0-%d0%b4%d0%b5%d1%98%d0%bd%d0%be%d1%81%d1%82-%d0%bd%d0%b0-%d1%81%d0%bb%d0%b0%d0%b2%d0%b8%d1%86%d0%b0-%d0%bf/
LOCATION:Array
CATEGORIES:концерт
ATTACH;FMTTYPE=image/jpeg:https://operabalet.mk/wp-content/uploads/2020/09/славица-галиќ.jpg
END:VEVENT
END:VCALENDAR