BEGIN:VCALENDAR
VERSION:2.0
PRODID:-//Национална опера и балет - ECPv4.0.7//NONSGML v1.0//EN
CALSCALE:GREGORIAN
METHOD:PUBLISH
X-WR-CALNAME:Национална опера и балет
X-ORIGINAL-URL:https://operabalet.mk
X-WR-CALDESC:Events for Национална опера и балет
BEGIN:VEVENT
DTSTART;TZID="Europe/Skopje":20250509T200000
DTEND;TZID="Europe/Skopje":20250509T230000
DTSTAMP:20260423T110635
CREATED:20250407T084633
LAST-MODIFIED:20250506T093539
UID:4491-1746820800-1746831600@operabalet.mk
SUMMARY:„РИГОЛЕТО“ - Џузепе Верди -ПРЕМИЕРА (9.5.2025)
DESCRIPTION:СВЕЧЕНО ОТВОРАЊЕ\n53 МАЈСКИ ОПЕРСКИ ВЕЧЕРИ\nПРЕМИЕРА\nЏузепе Верди\n„РИГОЛЕТО“ \n 09.05.2025\, 20.00часот\n \nДиригент: Џанлука Мартиненги – Италија\nРежисер: Пјер Франческо Маестрини - Италија\nАсс.Диригент : Катерина Стојковска\nАсс. режисер: Трајко Јордановски\, Љупка Јакимовска\nСценограф:  Гилермо Нова - Шпанија\nКостимограф:  Кристина Ачети – Италија\nАсс костомограф : Ангела Богевска\nКонцерт-мајстор: Климент Тодороски\nХор-мајстор: Јасмина Ѓорѓеска\, Ѓурѓица Дашиќ\nКореограф:  Саша Евтимова\nКорепетитор: Елена Сиљаноска\, Јанинка Невчева\,\nАндреја Наунов\nИнспициенти: Драган Костадиновиќ\, Марко Павлевски\, Kатерина Бошковска\nСуфлери: Невена Георгиева\nНАСТАПУВААТ \nРиголето: Леон Ким (Јужна Кореја)\nЏилда: Aна Дурловски\nВојводата од Мантова: Марио Баг - Јужна Кореја\nСпарафучил: Игор Дурловски \nМадалена: Николина Јаневска\nМонтероне:   Владимир Саздовски\nМаруло: Драган Ампов  \nБорса:  Јане Дунимаглоски\nГрофица Чепрано: Александра Лазаровска Василевски\nГроф Чепрано: Диме Петров\nЏована: Марика Поповиќ\nПаж:  Десанка Глигоријевиќ\nОфицер: Диме Петров\nХорот и оркестарот на Национална опера и балет\n \nСинопсис\nВо дворецот на војводата од Мантова се одржува бал. Војводата и се додворува на грофицата Чепрано. Дворскиот шут\, Риголето го исмејува грофот Чепрано\, а Маруло им кажува на присутните дека Риголето тајно има млада и убава љубовница. Тие се договараат да ја грабнат. На балот пристигнува грофот Монтероне\, чија ќерка војводата ја обесчестил. Сите се подбиваат со него\, најмногу Риголето. Монтероне ги проколнува и Риголето и војводата.\nПотресен од клетвата Риголето си оди дома\, каде пред својот дом се среќава со Спарафучиле кој му ги нуди своите услуги на професионален убиец.\nВо домот\, Риголето спокојно разговара со својата ќерка Џилда\, а на дадилката Џована и наредува никој да не влегува во нивниот дом.Тој заминува загрижен\, а во домот доаѓа војводата престорен како студентот Гуалтиер Малде. Ја поткупува Џована со пари\, таа го пушта внатре и на Џилда и изјавува љубов. Пред домот се собираат дворјаните со намера да ја грабнат Џилда. Со нив е и Риголето на кого му кажуваат дека ќе ја грабаат грофицата Чепрано која живеела блиску. Со превез на очите\, во грабежот учествува и Риголето држејќи ја скалата. Кога работата е завршена\, Риголето со ужас разбира дека е излажан и дека учествувал во грабежот на сопствената ќерка. Клетвата на Монтероне почнала да се обистинува.\nВо дворецот на војводата\, дворјаните разбираат од Риголето дека Џилда му е ќерка. Во бес\, Риголето влетува во одаите на војводата. Џилда посрамена трча кон татка си. Тој се колне дека ќе се освети. Џилда го моли да му прости на војводата.\nВо крчмата на Спарафучиле\, Риголето прави договор со него\, војводата да биде убиен. Ја испраќа Џилда престорена во машко\, но таа се враќа со намера да се сретне со Војводата. Го слуша разговорот помеѓу Спарафучиле и Мадалена\, при што таа го моли да го поштеди војводата. На вратата од крчмата\, во мракот Спарафичиле ја убива Џилда\, сакајќи на тој начин да ги оправда парите пред Риголето. Тој бара да го види телото завиткано во вреќа. Со ужас констатира дека е тоа неговата ќерка. Пред смртниот час Џилда го моли да и прости. Риголето се присетува на проклетството на Монтероне.\n
URL:https://operabalet.mk/event/4491/
LOCATION:Array
CATEGORIES:опера
ATTACH;FMTTYPE=image/png:https://operabalet.mk/wp-content/uploads/2025/04/rigoleto_mov_53.png
END:VEVENT
END:VCALENDAR