BEGIN:VCALENDAR
VERSION:2.0
PRODID:-//Национална опера и балет - ECPv4.0.7//NONSGML v1.0//EN
CALSCALE:GREGORIAN
METHOD:PUBLISH
X-WR-CALNAME:Национална опера и балет
X-ORIGINAL-URL:https://operabalet.mk
X-WR-CALDESC:Events for Национална опера и балет
BEGIN:VEVENT
DTSTART;TZID="Europe/Skopje":20260128T193000
DTEND;TZID="Europe/Skopje":20260128T204000
DTSTAMP:20260423T093927
CREATED:20251225T110232
LAST-MODIFIED:20251231T114437
UID:4817-1769628600-1769632800@operabalet.mk
SUMMARY:“Кавалерија рустикана” - Пјетро Маскaњи (28.1.2026)
DESCRIPTION:\nПјетро Маскaњи\n“Кавалерија рустикана”\n28.01.2026 година– Почеток 19:30 ч.\nДиригент: Иван Еминовиќ\nРежисер: Џандоменико Вакари ( Италија)\nАсс.режисер: Алесандро Идонеа (Италија)\nЉупка Јакимовска\, Трајко Јордановски\nСценограф: Зоран Николовски\nКостимограф: Елена Дончева\nКонцертмајстор:\nХор – мајстор: Ѓургица Дашиќ\, Јасмина Ѓорѓеска\nКорепетитори: Елена Сиљаноска\, Јанинка Невчева\, Андреја Наунов\,Анастасија Грговска\nИнспициенти: Драган Костадиновиќ\, Марко Павлевски\,Катерина Бошковска\nСуфлер: Невена Георгиева\nНастапуваат:\nСантуца: Благица Поп Томова\nТуриду: Зоран Сотиров\nАлфио: Ристе Велков\nЛола: Александра Лазаревска Василевски/ Марија Наумовска\nМајка Лучија: Марика Поповиќ\nХорот и оркестарот на Националнат опера и балет\n \nОпера во еден чин\nПрељуба\, љубомора\, одмазда = Трагедија\nСодржина:\nВечер пред Велигден во сицилијанско село.\nМладата Сантуца се упатува кон куќата на Лучија\, мајката на Туриду\, човекот кој таа го сака\, а во чија љубов се сомнева\, сo цел да разговара со него.\nНо\, наместо разговор\, таа ги гледа Туриду и Лола како тајно се среќаваат.\nЛола е жена на коларот Алфио. Туриду\, пред да замине во војска бил свршен со Лола\, но во меѓувреме таа се омажила за имотниот Алфио.\nТуриду после враќањето од војска разочаран\, бара утеха во прегратките на селанката Сантуца.\nСантуца\, сега веќе грешница во очите на селаните\, останува сосема сама\, отфрлена од сите. Таа неможејќи да ја совлада љубомората и кажува на мајката на Туриду Лучија\, каков грев сторил нејзиниот син.\nДоаѓа и Алфио\, кој после долго патување се враќа во селото и кажува како и тој го видел Туриду покрај неговата куќа.\nЗборовите на Сантуца и она што го слуша од Алфио\, ја фрлаат мајката Лучија во сомнеж и страв.\nДоаѓа Туриду\, Сантуца сака да зборува со него\, но е спречена од Лола која кокетира со Туриду и заедно со него оди во црква.\nСантуца\, пред која селаните ги затвораат црковните врати\, останува сама. Наидува Алфио и таа му кажува за прељубата на неговата жена. Тој ветува одмазда. Дури тогаш Сантуца сфаќа што сторила\, но веќе е доцна.\nСо цел да го спаси својот сакан и да си ја врати честа пред селаните\, таа оди да ги викне карабинерите да го спречат Алфио во одмаздата и да го спасат Туриду.\nПосле црковната служба\, Туриду ги поканува другарите да се напијат во неговата крчма. Доаѓаат и Лола и Алфио. Туриду ги гледа како танцуваат.\nПо острата расправија\, Туриду и Алфио решаваат да излезат на двобој.\nТуриду веќе нема излез. Тој и се обраќа на својата мајка со молба да ја чува Сантуца\, ако тој не се врати.\nМајката Лучија сеуште не сфаќа што се случува. Сантуца доаѓа доцна со карабинерите.\nСе слуша само:\,\,Туриду е мртов“\n
URL:https://operabalet.mk/event/4817/
LOCATION:Array
CATEGORIES:опера
ATTACH;FMTTYPE=image/jpeg:https://operabalet.mk/wp-content/uploads/2017/10/slider.jpg
END:VEVENT
END:VCALENDAR