BEGIN:VCALENDAR
VERSION:2.0
PRODID:-//Национална опера и балет - ECPv4.0.7//NONSGML v1.0//EN
CALSCALE:GREGORIAN
METHOD:PUBLISH
X-WR-CALNAME:Национална опера и балет
X-ORIGINAL-URL:https://operabalet.mk
X-WR-CALDESC:Events for Национална опера и балет
BEGIN:VEVENT
DTSTART;TZID="Europe/Skopje":20211119T200000
DTEND;TZID="Europe/Skopje":20211119T210000
DTSTAMP:20260423T123630
CREATED:20211018T120124
LAST-MODIFIED:20211108T102431
UID:3245-1637352000-1637355600@operabalet.mk
SUMMARY:„Дрдорењата на Лапо“ - Џо Скитино (19.11.2021)
DESCRIPTION:700 год. од смртта на Данте Алигиери\n„Дрдорењата на Лапо“ - Џо Скитино\nЛибрето: Клаудио Салтарели\nДиригент: Иван Еминовиќ\nРежисер: Дејан Прошев\nКонцерт-мајстор: Верица Ламбевска\, Климент Тодороски\nХор-мајстор: Ѓурѓица Дашиќ\nСветло дизајн: Перо Марачков\nКорепетитори: Јанинка Невчева\, Андреја Наунов\nНастапуваат:\nЛапо Салтарели: Џанпиеро Руџери\nДанте Алигиери: Благој Нацоски\nНастапуваат хорот и оркестарот на Национална опера и балет\nИнспициенти: Љупчо Полизов\, Драган Костадиновиќ\, Марко Павлевски\nСОДРЖИНА (СИНОПИС)\nСцената се случува помеѓу блескавите експлозии на Фирентинецот Бринделоне.\nЛапо Салтарели го гонат неговите мисли за претрпените грешки\, според него\, кои во животот и никогаш не му се простени што е толку погрешно.\nБесен што не го ублажил ни неуморниот тек на времето.\nЗатоа ги евоцира фактите што довеле до негово протерување\, прогонство и осуденост на смрт откако имал безброј престижни улоги и бил суштински столб на животот на Фиренца: особено\, полн со содржини и настани од највисоко значење.\nТој го осудува Данте\, според неговото мислење\, дека бил причина за неговата морална забрана\, за грешка предизвикана од лудилото на моментот\, од огромниот страв да се спаси животот\, сериозно загрозен од реченицата на еден папа. Моралната забрана дадена со пресудата на Данте во неговите дела ја извалка неизбришливо сеќавање\, оставајќи му на потомството маса од лаги и вечн белег. Од неговата посветеност\, од својот живот потрошен за доброто на градот Фиренца\, ништо не останува: за тоа тој го смета за должност и побарува надомест.\nЗатворени во евокативната интимност на Божествената комедија\, замислуваме средба\, предизвикана од комбинација на двете повторувања на смртта\, на двајцата поети во тој Рај размислувале и создале\, всушност тоа било од комедијата на Данте.\nПо почетниот „дуел“ со зборови и опомени\, Данте го дава својот ловоров венец на Лапо\, (двајца) пријатели.\nТие се здружуваат евоцирајќи ги старите времиња за прекрасната Фиренца\, незаборавна татковина\, неостварлив здив.\nСцената завршува со извици на бранителите на знамето на Фиренца.
URL:https://operabalet.mk/event/700-%d0%b3%d0%be%d0%b4-%d0%be%d0%b4-%d1%81%d0%bc%d1%80%d1%82%d1%82%d0%b0-%d0%bd%d0%b0-%d0%b4%d0%b0%d0%bd%d1%82%d0%b5-%d0%b0%d0%bb%d0%b8%d0%b3%d0%b8%d0%b5%d1%80%d0%b8-19-11-2021/
LOCATION:Array
CATEGORIES:концерт
ATTACH;FMTTYPE=image/jpeg:https://operabalet.mk/wp-content/uploads/2021/10/dante_web_slide.jpg
END:VEVENT
END:VCALENDAR