BEGIN:VCALENDAR
VERSION:2.0
PRODID:-//Национална опера и балет - ECPv4.0.7//NONSGML v1.0//EN
CALSCALE:GREGORIAN
METHOD:PUBLISH
X-WR-CALNAME:Национална опера и балет
X-ORIGINAL-URL:https://operabalet.mk
X-WR-CALDESC:Events for Национална опера и балет
BEGIN:VEVENT
DTSTART;TZID="Europe/Skopje":20251128T200000
DTEND;TZID="Europe/Skopje":20251128T213000
DTSTAMP:20260423T073613
CREATED:20251114T124109
LAST-MODIFIED:20251127T145449
UID:4767-1764360000-1764365400@operabalet.mk
SUMMARY:Гала Оперски Концерт со Инва Мула (28.11.2025)
DESCRIPTION:\nГала Оперски Концертсо светската оперска дива – сопранот Инва Мула\,сопранот Дешира Амети-Крлиу итенорот Исмет Весели\nДиригент: Иван ЕминовиќРежисер: Дејан Прошев\nOркестарот на Националната опера и балет\nВечер исполнета со страст\, драматичност и раскошни вокали. Публиката ќе има ретка можност да ужива во програмата која ги спојува бисерите на  оперскиот репертоар.\nКонцертот ќе биде отворен со моќната увертира од „La forza del destino“ на Џузепе Верди.\nПрограма / Program:\n1\,Џ.Верди – „Моќта на судбината“\, увертира\n2.Џ. Верди – „Моќта на судбината“\, арија“\nИсполнува: :Дешира Ахмети – Крлиу - сопра\n3. Тома Гачи – „Вале ме дајре“\, увертира\n4.Л.Делибес – – Les filles de Cadix\, „Aria de Cadix“\nИсполнува: : Инва Мула – сопран\n5.Џ Пучини арија на Лаурета од операта Џани Скики\nИзведува : Инва Мула сопран\n6. Џ.Пучини Арија на Музета од операта Боеми\nИсполнува: Дешира Ахмети – Крлиу - сопран\n7.Ж:Бизе арија на Дон Хозе од операта Кармен\nИсполнува: Исмет Весели - тенор\n8. Ж.Офенбах – дует од операта Хофманови приказни –\,\, Баркарола\,\,\nИсполнуваат :Инва Мула и Дешира Ахмети – Крлиу\n9. Р.Фалво – наполитанска песна „Dicitencello vuie“\nИсполнува : Инва Мула\n10. Р.Муличи Бареша - Инструментал\n11.Çesk Zadeja – „N’ta Zaman“\nИсполнува: Дешира Ахмети – Крлиу\n12. Avni Mula – „Agimet Shqiptare“\nИсполнува: Инва Мула\n13.Avni Mula – „Valsi i Lumturisë“\nИсполнуваат: Дешира Ахмети Крлиу Инва Мула\nЏ.Верди – „Brindisi“од операта Травијата\nИсполнуваат : Инва Мула\, Дешира Ахмети – Крлиу и Исмет Вејсели\n\n
URL:https://operabalet.mk/event/gala_operski-28-11-2025/
LOCATION:Array
CATEGORIES:концерт
ATTACH;FMTTYPE=image/jpeg:https://operabalet.mk/wp-content/uploads/2025/11/gala_inva3_.jpg
END:VEVENT
END:VCALENDAR