BEGIN:VCALENDAR
VERSION:2.0
PRODID:-//Национална опера и балет - ECPv4.0.7//NONSGML v1.0//EN
CALSCALE:GREGORIAN
METHOD:PUBLISH
X-WR-CALNAME:Национална опера и балет
X-ORIGINAL-URL:https://operabalet.mk
X-WR-CALDESC:Events for Национална опера и балет
BEGIN:VEVENT
DTSTART;TZID="Europe/Skopje":20250519T200000
DTEND;TZID="Europe/Skopje":20250519T230000
DTSTAMP:20260423T110712
CREATED:20250407T090109
LAST-MODIFIED:20250513T085356
UID:4494-1747684800-1747695600@operabalet.mk
SUMMARY:„НАБУКО“ – ЏУЗЕПЕ ВЕРДИ (19.5.2025)
DESCRIPTION:\n53 Мајски оперски вечери\nЏузепе Верди \n „НАБУКО“\n19.5.2025\, 20 часот\nДиригент: Мирон Михаилидис (Грција)\nРежисер: Ренато Бонајуто (Италија)\nСценограф: Флавио Арбети (Италија)\nКостимограф: Артемио Кабаси (Италија)\nКореограф: Маја Митровска - Богојевска\nАсс.Диригент : Катерина Стојковска\nАсс.режисер:Тереза Гаргано (Италија)\,  Љупка Јакимовска\nКонцерт-мајстор: Јане Бакевски\nХор-мајстор: Јасмина Ѓорѓеска\nДизајн на светло: Милчо Александров\nКорепетитори: Елена Сиљаноска\, Јанинка Невчева\, Андреја Наунов\nИнспициенти: Драган Костадиновиќ\, Марко Павлевски\, Kатерина Бошковска\nСуфлер: Невена Георгиева\nНАСТАПУВААТ:\nНабуко:  Луис Кансино (Шпанија)\nАбигаиле: Ханјинг Цо (Кина)\nФенена: Николина Јаневска\nИсмаил: Уго Тарквини (Италија)\nЗахарие: Џовани Пароди  (Италија)\nГолемиот свештеник: Диме Петров\nАна: Ана Ројдева\nАбдало:  Дејан Стоев\nНастапуваат хорот и оркестарот на Национална опера и балет\, женскиот балетски ансамбл и\n ученици од балетскиот оддел при ДМБУЦ „Илија Николовски – Луј“\nСинопсис\nЧИН I\nЕрусалим\, внатрешноста на Соломоновиот храм\nЕрусалим\, 6 век п.н.е. Израелците се молат за помош против Набуко\, кралот на Вавилон\, кој ги нападнал и го вандализира градот. Захарие\, нивниот првосвештеник\, се појавува со ќерката на Набуко\, Фенена\, која Евреите ја држат како заложник. Тој го уверува својот народ дека Господ нема да го остави. Додека Израелците заминуваат\, Исмаил\, внук на кралот на Ерусалим\, останува сам со Фенена. Двајцата се заљубиле кога Исмаил е затворен во Вавилон\, а Фенена му помогнала да избега и го следела во Ерусалим. Нивниот разговор е прекинат со ненадејното појавување на полусестрата на Фенена\, Абигаиле и група маскирани вавилонски војници. Абигаиле\, која исто така е вљубена во Исмаил\, му кажува дека може да го спаси неговиот народ ако тој ѝ ја возврати љубовта\, но тој одбива. Израелците во паника брзаат назад кон храмот. Кога Набуко влегува со својата војска\, Захарие се соочува со него\, заканувајќи се дека ќе ја убие Фенена. Исмаил го разоружува свештеникот и ја предава Фенена на нејзиниот татко. Набуко наредува да се уништи храмот.\nЧИН II\n„L'Empio“\, станови во палатата\nНабуко ја назначува Фенена за регент додека тој е отсутен и води војни. Абигаиле\, во кралската палата во Вавилон\, пронашла документ во кој се вели дека таа не е ќерка на кралот\, туку дете на робови. Предвидувајќи ја иднината во која Фенена и Исмаил ќе владеат заедно над Вавилон\, таа се заколнува на одмазда кон Набуко и Фенена. Првосвештеникот на Ваал пристигнува со вест дека Фенена ги ослободила израелските затвореници. Како резултат на нејзиното предавство\, тој ѝ го нуди тронот на Абигаиле и предлага да се прошири гласина дека Набуко загинал во битка.\nНа друго место во палатата\, Закарија се моли за инспирација да ги убеди Вавилонците да се откажат од своите лажни идоли.\nВлегува Исмаил и насобраните левити го обвинуваат за предавство\, но Закарија објавува дека е помилуван затоа што го спасил својот сонародник Израелец - новообратената Фенена. Еден офицер влетува за да ја предупреди Фенена дека кралот е мртов и нејзиниот живот е во опасност. Пред да може да избега\, пристигнува првосвештеникот на Ваал со Абигаиле и Вавилонците\, кои ја прогласуваат Абигаиле за владетел. Таа е на пат да се круниса кога\, на чудење на сите\, се појавува Набуко. Тој ја грабнува круната од неа\, се соочува со толпата и се прогласува не само за нивниот крал\, туку и за нивниот бог. За ова богохулење\, го удира гром. Абигаиле\, триумфално\, ја зема круната за себе.\nЧИН III\nПророштвото\, висечки градини\nВавилонците ја поздравуваат Абигаиле како свој владетел. Првосвештеникот ја поттикнува да ги убие Израелците\, но пред да може да даде наредба\, разбушавениот Набуко се втурнува внатре. Тој прашува што ќе се случи со Фенена\, а Абигаиле одговара дека и таа мора да умре. Кога Набуко се обидува во неговата облека да го најде документот што го докажува потеклото на Абигаиле\, таа го грабнува и го кине на парчиња. Залудно се моли за животот на Фенена.\nПокрај брегот на Еуфрат\, Израелците почиваат од принудната работа а нивните мисли се свртени кон својата татковина. Захарие предвидува дека ќе го надминат заробеништвото и ќе го уништат Вавилон со помош на Бога.\nЧИН IV\nСкршениот идол\, станови во палатата\nОд прозорецот во неговиот стан\, каде што е затворен од Абигаиле\, Набуко гледа како Фенена и Израелците ги водат кон егзекуција. Очаен\, тој се моли на богот на Израел за прошка\, ветувајќи дека ќе се преобрати себеси и својот народ. Неговиот разум е вратен\, тој присилно ја отвора вратата и ги повикува своите војници да го вратат тронот и да ја спасат неговата ќерка.\nИзраелците за кратко ќе бидат погубени. Фенена се моли да биде примена во рајот\, а во тој миг Набуко се втурнува и го прекинува жртвувањето. Абигаиле\, полна со каење\, зема отров и умира\, признавајќи ги своите злосторства и се моли на богот на Израел да и прости. Набуко го објавува своето преобраќање и ги ослободува Израелците\, велејќи им да се вратат во својата родна земја и да го обноват својот храм. Израелците и Вавилонците се обединети во славењето на Бога.\n \n\nНастапуваат: хорот\,оркестарот\, женскиот балетски ансамбл и ученици од балетскиот оддел при ДМБУЦ „Илија Николовски – Луј“\n\n \n\nИспициенти:Драган Костадиновиќ\, Марко Павлевски\n\nСуфлер: Невена Георгиева
URL:https://operabalet.mk/event/nabucco_mov_2025/
LOCATION:Array
CATEGORIES:опера
ATTACH;FMTTYPE=image/jpeg:https://operabalet.mk/wp-content/uploads/2023/09/nabuko-web_slide-1024x456-1.jpg
END:VEVENT
END:VCALENDAR