BEGIN:VCALENDAR
VERSION:2.0
PRODID:-//Национална опера и балет - ECPv4.0.7//NONSGML v1.0//EN
CALSCALE:GREGORIAN
METHOD:PUBLISH
X-WR-CALNAME:Национална опера и балет
X-ORIGINAL-URL:https://operabalet.mk
X-WR-CALDESC:Events for Национална опера и балет
BEGIN:VEVENT
DTSTART;TZID="Europe/Skopje":20241119T200000
DTEND;TZID="Europe/Skopje":20241119T213000
DTSTAMP:20260423T073602
CREATED:20241014T132113
LAST-MODIFIED:20241114T140621
UID:4157-1732046400-1732051800@operabalet.mk
SUMMARY:„ЖЕНИТЕ НА ПУЧИНИ“ - концерт (19.11.2024)
DESCRIPTION:\nНАЦИОНАЛНА ОПЕРА И БАЛЕТ: ГАЛА НАСТАН\n„ЖЕНИТЕ НА ПУЧИНИ“\nКОНЦЕРТ НА СОЛИСТКИТЕ НА НАЦИОНАЛНАТА ОПЕРА И БАЛЕТ\n19.11.2024\, Фоаје на Национална опера и балет \, 20.00ч\nНационалната oпера и балет со гордост го најавува свечениот гала настан по повод одбележувањето на стогодишнината од смртта на големиот италијански композитор Џакомо Пучини.\nКако институција\, имаме одговорност да ја негуваме уметноста и да ја пренесеме на идните генерации. Посветени сме да ја збогатиме културната сцена во земјата преку репертоар и настани прилагодени за сите возрасти.\nДонаторскиот гала настан насловен „Жените на Пучини“ ќе се одржи на 19 ноември\, 2024 година\, во фоајето на Националната Опера и Балет\, со почеток во 20 часот. Нашата публика ќе има единствена можност да ужива во врвни изведби на најпознатите арии на великанот Пучини.\nНа концертот ќе бидат изведени 12 арии\, во интерпретација на осум истакнати солистки од нашата оперска куќа\, со пијано придружба.\nСолистки:\nВесна Ѓиновска Илкова;\nСандра Митровска;\nПавлина Новакова Георгиев;\nЗлата Тошевска Димовска;\nАлександра Лазаревска Василевски;\nКатерина Стојановска;\nБиљана Јосифов;\nИлина Митревска;\nПијано придружба:\nАндреј Наунов\nРежисер:\nДејан Прошев\nВо исто време\, ќе биде поставена изложба со наслов „Пучини низ историјата на МОБ“\, која ќе претстави материјали од нашата богатата архива.\nОвој настан претставува кулминација на нашата годишна културна понуда и можност за дружење со уметниците и креативниот тим на Националната опера\, во извонредна атмосфера.\nВашето присуство и поддршка ќе ни овозможат да ја продлабочиме соработката со локалната заедница и да создадеме програми кои ќе им овозможат на илјадници луѓе да ја доживеат сценската уметност во нејзиното најдобро издание\, поддржувајќи ја македонската култура и идентитет.\nЦената на билетите за овој настан изнесува 3000 денари.\nБројот на билети е ограничен и затоа ги повикуваме сите заинтересирани да ги резервираат своите места преку нашите официјални канали.\n \nП Р О Г Р А М А:\n                                                                \n1.Арија на Џорџета “Е ben altro il mio sogno” од операта „Плаштот“\nИзведува: Павлина Новакова Георгиева\n2.Арија на Мими “Si. Mi chiamano Mimi” од операта „Боеми“\nИзведува: Катерина Стојановска\n3.Арија на Музета “Quando m’en vo” oд операта „Боеми“\nИзведува: Александра Лазаревска Василевски\n4.Арија на Лаурета “O mio babbino caro” од операта „Џани Скики“\nИзведува: Билјана Јосифов\n5.Арија на Манон Леско “Sola\,perduta\,abbandonata“\nИзведува: Сандра Митровска\n6.Арија на Магда “Chi il bel sogno di Doretta“ oд операта “La Rondine“\nИзведува: Илина Митревска\n7.Арија на Манон "In quelle trine morbide”\, од операта „Манон Леско”\nИзведува: Злата Тошевска Димовска\n8.Арија на Лиу "Signore Ascolta" од операта „Турандот“\nИзведува: Билјана Јосифов\n9.Suor Angelika – Senza Mamma\nИсполнува: Илина Митревска\n10.Арија на Чо Чо Сан “Tu Tu Piccolo Iddio”од операта „Мадам Батерфлај“\nИзведува: Сандра Митровска\n11.Арија на Флорија Тоска “Vissi d’arte”\, од операта “Toска”\nИзведува: Весна Ѓиновска-Илкова
URL:https://operabalet.mk/event/puccini_19-11-2024/
LOCATION:Array
CATEGORIES:концерт
ATTACH;FMTTYPE=image/png:https://operabalet.mk/wp-content/uploads/2024/10/le_donne_di_puccini.png
END:VEVENT
END:VCALENDAR